BEGIN:VCALENDAR
VERSION:2.0
PRODID:-//ChamberMaster//Event Calendar 2.0//EN
METHOD:PUBLISH
X-PUBLISHED-TTL:P3D
REFRESH-INTERVAL:P3D
CALSCALE:GREGORIAN
BEGIN:VEVENT
DTSTART:20190803T000000Z
DTEND:20190803T013000Z
X-MICROSOFT-CDO-ALLDAYEVENT:FALSE
SUMMARY:ImprovAcadia Comedy Theater
DESCRIPTION:ImprovAcadia is open for their 16th Season entertaining tourists and locals with professional Improvisers\, veterans of Chicago's famed Second City. 8pm Family Friendly shows and 10pm adult shows. Snacks\, desserts and a full bar are available. Air conditioned and handicap accessible.
X-ALT-DESC;FMTTYPE=text/html:ImprovAcadia is open for their 16th Season entertaining tourists and locals with professional Improvisers\, veterans of Chicago&#39\;s famed Second City. 8pm Family Friendly shows and 10pm adult shows. Snacks\, desserts and a full bar are available. Air conditioned and handicap accessible.
LOCATION:15 Cottage St. 2nd floor Bar Harbor ME 04609
UID:e.3061.14314
SEQUENCE:3
DTSTAMP:20260419T192504Z
URL:https://www.visitbarharbor.com/events/details/improvacadia-comedy-theater-08-02-2019-14314
END:VEVENT

END:VCALENDAR
