BEGIN:VCALENDAR
VERSION:2.0
PRODID:-//ChamberMaster//Event Calendar 2.0//EN
METHOD:PUBLISH
X-PUBLISHED-TTL:P3D
REFRESH-INTERVAL:P3D
CALSCALE:GREGORIAN
BEGIN:VEVENT
DTSTART:20190928T130000Z
DTEND:20190928T190000Z
X-MICROSOFT-CDO-ALLDAYEVENT:FALSE
SUMMARY:Identifying Maine's Edible & Medicinal Mushrooms
DESCRIPTION:Have you ever wondered about the mushrooms growing in your yard or along the paths in the forest? Greg Marley who is the author of "Mushrooms for Health" and "Chanterelle Dreams\, Amanita Nightmares" will be giving a talk as well as a leisurely walk in the woods looking for fresh mushrooms to identify in this workshop.  He brings over 25 years in leading public walks and classes on mushroom appreciation and has specialized in the use of medicinal mushrooms. This is a fun and engaging class for all ages.  The class will meet in the Sleigh Barn at 9:00am.  You will need water\, a bag lunch and bug repellent.  See the website for pricing and agenda.
X-ALT-DESC;FMTTYPE=text/html:Have you ever wondered about the mushrooms growing in your yard or along the paths in the forest? Greg Marley who is the author of &ldquo\;Mushrooms for Health&rdquo\; and &ldquo\;Chanterelle Dreams\, Amanita Nightmares&rdquo\; will be giving a talk as well as a leisurely walk in the woods looking for fresh mushrooms to identify in this workshop.&nbsp\; He brings over 25 years in leading public walks and classes on mushroom appreciation and has specialized in the use of medicinal mushrooms. This is a fun and engaging class for all ages.&nbsp\; The class will meet in the Sleigh Barn at 9:00am.&nbsp\; You will need water\, a bag lunch and bug repellent.&nbsp\; See the website for pricing and agenda.<br />\n&nbsp\;
LOCATION:Woodlawn Museum 19 Black House Dr. Ellsworth\, ME 04605
UID:e.3061.14790
SEQUENCE:3
DTSTAMP:20260419T192808Z
URL:https://www.visitbarharbor.com/events/details/identifying-maine-s-edible-medicinal-mushrooms-14790
END:VEVENT

END:VCALENDAR
