BEGIN:VCALENDAR
VERSION:2.0
PRODID:-//ChamberMaster//Event Calendar 2.0//EN
METHOD:PUBLISH
X-PUBLISHED-TTL:P3D
REFRESH-INTERVAL:P3D
CALSCALE:GREGORIAN
BEGIN:VEVENT
DTSTART:20180509T220000Z
DTEND:20180509T230000Z
X-MICROSOFT-CDO-ALLDAYEVENT:FALSE
SUMMARY:How to Participate in the Maine Bird Atlas 2018-2022: a lecture with Richard MacDonald
DESCRIPTION:How to Participate in the Maine Bird Atlas 2018-2022: a lecture with Richard MacDonald\n\nWednesday\, May 9\, 6-7 pm\n\nCome learn about the Maine Bird Atlas and how you can be involved.  This is a five-year effort to document both breeding and wintering birds across the state. To be successful\, the effort will need people across the state to volunteer.  Local ornithologist and bird tour leader\, Rich MacDonald\, will talk about the history of the Maine Bird Atlas and how you can participate. Rich will walk us through some of the resources available on the website and how to report our observations.  The Maine Bird Atlas will be a fun new way to go birding in Maine\, share our sightings\, and contribute to a better understanding of Maine's birds.  The lecture is free and open to the public.  Donations\, however\, are always greatly appreciated. \n\nSpace is limited.  Reservations are required by visiting https://woodlawnmuseum.com/event/participate-maine-bird-atlas-2018-2022-lecture-richard-macdonald/
X-ALT-DESC;FMTTYPE=text/html:<strong>How to Participate in the Maine Bird Atlas 2018-2022: a lecture with Richard MacDonald</strong><br />\n<strong>Wednesday\, May 9\, 6-7 pm</strong><br />\n<span style="color:rgb(34\, 34\, 34)\; font-family:arial\,verdana\,sans-serif\; font-size:12px">Come learn about the Maine Bird Atlas and how you can be involved.&nbsp\; This is a five-year effort to document both breeding and wintering birds across the state. To be successful\, the effort will need people across the state to volunteer.&nbsp\; Local ornithologist and bird tour leader\, Rich MacDonald\, will talk about the history of the Maine Bird Atlas and how you can participate. Rich will walk us through some of the resources available on the website and how to report our observations.&nbsp\; The Maine Bird Atlas will be a fun new way to go birding in Maine\, share our sightings\, and contribute to a better understanding of Maine&rsquo\;s birds.&nbsp\; The lecture is free and open to the public.&nbsp\; Donations\, however\, are always greatly appreciated.&nbsp\;</span><br />\n<strong>Space is limited.&nbsp\; Reservations are required by visiting https://woodlawnmuseum.com/event/participate-maine-bird-atlas-2018-2022-lecture-richard-macdonald/</strong>
LOCATION:Woodlawn Museum
UID:e.3061.856
SEQUENCE:3
DTSTAMP:20260420T233421Z
URL:https://www.visitbarharbor.com/events/details/how-to-participate-in-the-maine-bird-atlas-2018-2022-a-lecture-with-richard-macdonald-856
END:VEVENT

END:VCALENDAR
