BEGIN:VCALENDAR
VERSION:2.0
PRODID:-//ChamberMaster//Event Calendar 2.0//EN
METHOD:PUBLISH
X-PUBLISHED-TTL:P3D
REFRESH-INTERVAL:P3D
CALSCALE:GREGORIAN
BEGIN:VEVENT
DTSTART:20181102T230000Z
DTEND:20181103T000000Z
X-MICROSOFT-CDO-ALLDAYEVENT:FALSE
SUMMARY:How a Composer and a Photographer Crowdfunded their Dream Project
DESCRIPTION:Learn how a composer and photographer crowdfunded their dream project at the Jesup Memorial Library on Friday\, Nov. 2 at 7 p.m. Composer Kristina A. Bishoff and photographer Madeline Shayne used Kickstarter to raise $99\,297 to create the "Green Rider" soundtrack and photobook based on the Kristen Britain novel of the same name. Join them to learn more about how they successfully funded their project\, hear pieces from the soundtrack and see photos from the accompanying photos. \n\n \n\nBischoff and Shayne originally set out to raise $30\,000 to fund their project and set $60\,000\, $90\,000 and $120\,000 goals. For each goal they reached more incentives were added on top of the regular incentives they gave to the backers of their project. The $90\,000 goal allowed them to record the CD with a full orchestra and choir. After they met their goal in May they released the full album and sent it out in September. \n\n \n\nBischoff is a composer and 3-time nominee for Best Music in Utah Film/Music Awards. She has written music for Salt Lake Pops\, Pretty Darn Funny web-series\, commercials for businesses\, and alternative pop artists including Robyn Cage Recently\, she wrote music for "Kaladin\," a book soundtrack that raised over $100\,000 on Kickstarter to create music inspired by Brandon Sanderson's famous novel "The Way of Kings." Working on this project inspired Bischoff to begin to make this soundtrack based on her favorite book. \n\n \n\nShayne is a fine art photographer and artist. Her work has appeared in several online and offline publications\, including Duende Magazine\, Boston Voyager Magazine\, Blacksburg Belle\, and Whim Magazine. Her work is influenced by her love of fantasy\, the natural world and couture fashion.\n\n \n\nThis event is part of the "Dream Gathering" weekend to celebrate the 20th anniversary of the publishing of Kristen Britain's "Green Rider." The "Dream Gathering" is on Saturday\, Nov. 3 at 6:30 p.am. and you can hear Britain read from her new book "The Dream Gatherer" and celebrate 20 years of "Green Rider" with fans from around the country. \n\n \n\nFor more information contact the Jesup at 207-288-4245 or mrice@jesuplibrary.org.
X-ALT-DESC;FMTTYPE=text/html:<span style="font-family:times new roman\,serif"><span style="font-size:14.0pt">Learn how a composer and photographer crowdfunded their dream project at the Jesup Memorial Library on Friday\, Nov. 2 at 7 p.m. Composer Kristina A. Bishoff and photographer Madeline Shayne used Kickstarter to raise $99\,297 to create the &ldquo\;Green Rider&rdquo\; soundtrack and photobook based on the Kristen Britain novel of the same name. Join them to learn more about how they successfully funded their project\, hear pieces from the soundtrack and see photos from the accompanying photos. </span></span><br />\n&nbsp\;<br />\n<span style="font-family:times new roman\,serif"><span style="font-size:14.0pt">Bischoff and Shayne originally set out to raise $30\,000 to fund their project and set $60\,000\, $90\,000 and $120\,000 goals. For each goal they reached more incentives were added on top of the regular incentives they gave to the backers of their project. The $90\,000 goal allowed them to record the CD with a full orchestra and choir. After they met their goal in May they released the full album and sent it out in September. </span></span><br />\n&nbsp\;<br />\n<span style="font-family:times new roman\,serif"><span style="font-size:14.0pt">Bischoff is a composer and 3-time nominee for Best Music in Utah Film/Music Awards. She has written music for Salt Lake Pops\, Pretty Darn Funny web-series\, commercials for businesses\, and alternative pop artists including Robyn Cage Recently\, she wrote music for &ldquo\;Kaladin\,&rdquo\; a book soundtrack that raised over $100\,000 on Kickstarter to create music inspired by Brandon Sanderson&#39\;s famous novel &ldquo\;The Way of Kings.&rdquo\; Working on this project inspired Bischoff to begin to make this soundtrack based on her favorite book. </span></span><br />\n&nbsp\;<br />\n<span style="font-family:times new roman\,serif"><span style="font-size:14.0pt">Shayne is a fine art photographer and artist. Her work has appeared in several online and offline publications\, <em>including Duende Magazine\, Boston Voyager Magazine\, Blacksburg Belle\, </em>and <em>Whim Magazine</em>. Her work is influenced by her love of fantasy\, the natural world and couture fashion.</span></span><br />\n&nbsp\;<br />\n<span style="font-family:times new roman\,serif"><span style="font-size:14.0pt">This event is part of the &ldquo\;Dream Gathering&rdquo\; weekend to celebrate the 20<sup>th</sup> anniversary of the publishing of Kristen Britain&rsquo\;s &ldquo\;Green Rider.&rdquo\; The &ldquo\;Dream Gathering&rdquo\; is on Saturday\, Nov. 3 at 6:30 p.am. and you can hear Britain read from her new book &ldquo\;The Dream Gatherer&rdquo\; and celebrate 20 years of &ldquo\;Green Rider&rdquo\; with fans from around the country. </span></span><br />\n&nbsp\;<br />\n<span style="font-family:times new roman\,serif"><span style="font-size:14.0pt"><span>For more information contact the Jesup at <span class="gc-cs-link" id="gc-number-0" title="Call with Google Voice">207-288-4245</span> or </span><a href="mailto:mrice@jesuplibrary.org">mrice@jesuplibrary.org</a></span>. </span>
LOCATION:Jesup Memorial Library\, 34 Mt. Desert St.\, Bar Harbor\, ME 04609
UID:e.3061.4232
SEQUENCE:3
DTSTAMP:20260420T114319Z
URL:https://www.visitbarharbor.com/events/details/how-a-composer-and-a-photographer-crowdfunded-their-dream-project-4232
END:VEVENT

END:VCALENDAR
