BEGIN:VCALENDAR
VERSION:2.0
PRODID:-//ChamberMaster//Event Calendar 2.0//EN
METHOD:PUBLISH
X-PUBLISHED-TTL:P3D
REFRESH-INTERVAL:P3D
CALSCALE:GREGORIAN
BEGIN:VEVENT
DTSTART:20190320T223000Z
DTEND:20190321T000000Z
X-MICROSOFT-CDO-ALLDAYEVENT:FALSE
SUMMARY:Hot Power Yoga Benefit for the Criterion Theatre
DESCRIPTION:It's time to bring some heat to the studio! Join Deanna for this fun Hot Power Yoga & Social choreographed to Movie Soundtracks with all donations going to the historic Criterion Theater in downtown Bar Harbor. This fun yet challenging class will be 60 minutes followed by optional sparkling cider\, prosecco and a surprise guest singer!!! Deanna is a soulful practitioner of yoga for over 17 years and has been teaching Hot Vinyasa and Power Vinyasa at Yoga to the People in NYC for the past 8 years. She is also a successful performer and can currently be seen in the National Touring Company of Wicked the Musical. She was also recently seen on Broadway in the smash hit Mamma Mia! Come get a sweaty practice in and have some fun for our great local theater. Sign up online with a suggested donation of $20 or sign up for free now to reserve your spot and bring your donation with you.
X-ALT-DESC;FMTTYPE=text/html:It&#39\;s time to bring some heat to the studio! Join Deanna for this fun Hot Power Yoga &amp\; Social choreographed to Movie Soundtracks with all donations going to the historic Criterion Theater in downtown Bar Harbor. This fun yet challenging class will be 60 minutes followed by optional sparkling cider\, prosecco and a surprise guest singer!!! Deanna is a soulful practitioner of yoga for over 17 years and has been teaching Hot Vinyasa and Power Vinyasa at Yoga to the People in NYC for the past 8 years. She is also a successful performer and can currently be seen in the National Touring Company of Wicked the Musical. She was also recently seen on Broadway in the smash hit Mamma Mia! Come get a sweaty practice in and have some fun for our great local theater. Sign up online with a suggested donation of $20 or sign up for free now to reserve your spot and bring your donation with you.
LOCATION:Destination Health 53 Main St Bar Harbor\, ME 04609
UID:e.3061.8776
SEQUENCE:3
DTSTAMP:20260420T044311Z
URL:https://www.visitbarharbor.com/events/details/hot-power-yoga-benefit-for-the-criterion-theatre-8776
END:VEVENT

END:VCALENDAR
