BEGIN:VCALENDAR
VERSION:2.0
PRODID:-//ChamberMaster//Event Calendar 2.0//EN
METHOD:PUBLISH
X-PUBLISHED-TTL:P3D
REFRESH-INTERVAL:P3D
CALSCALE:GREGORIAN
BEGIN:VEVENT
DTSTART:20191121T230000Z
DTEND:20191122T003000Z
X-MICROSOFT-CDO-ALLDAYEVENT:FALSE
SUMMARY:Hospice Myths Debunked: Hospice Offers More Than You Think
DESCRIPTION:Northern Light Home Care & Hospice and Hospice Volunteers of Hancock County will uncover common myths about hospice care and inform people of their many services which extend beyond what many people realize. Medical and volunteer hospice services will be explained with the goal of serving patients earlier in their journeys. Information about other hospice services such as assistance with Advance Care Directives and bereavement support for families will be provided.
X-ALT-DESC;FMTTYPE=text/html:Northern Light Home Care &amp\; Hospice and Hospice Volunteers of Hancock County will uncover common myths about hospice care and inform people of their many services which extend beyond what many people realize. Medical and volunteer hospice services will be explained with the goal of serving patients earlier in their journeys. Information about other hospice services such as assistance with Advance Care Directives and bereavement support for families will be provided.
LOCATION:Ellsworth Public Library
UID:e.3061.16298
SEQUENCE:3
DTSTAMP:20260419T160009Z
URL:https://www.visitbarharbor.com/events/details/hospice-myths-debunked-hospice-offers-more-than-you-think-16298
END:VEVENT

END:VCALENDAR
