BEGIN:VCALENDAR
VERSION:2.0
PRODID:-//ChamberMaster//Event Calendar 2.0//EN
METHOD:PUBLISH
X-PUBLISHED-TTL:P3D
REFRESH-INTERVAL:P3D
CALSCALE:GREGORIAN
BEGIN:VEVENT
DTSTART:20180526T130000Z
DTEND:20180526T210000Z
X-MICROSOFT-CDO-ALLDAYEVENT:FALSE
SUMMARY:Hooked Rugs exhibit
DESCRIPTION:The annual exhibit of Mount Desert Island?s rug hooking group\, Hook ?n I\, will hang at the Southwest Harbor Public Library during the month of May\, featuring original designs and traditional and current patterns. Also on exhibit in May is a glimpse into an exhibit from the Maine Folklife Center: Threads of Our Lives: Maine Folk Fiber Art.
X-ALT-DESC;FMTTYPE=text/html:The annual exhibit of Mount Desert Island?s rug hooking group\, Hook ?n I\, will hang at the Southwest Harbor Public Library during the month of May\, featuring original designs and traditional and current patterns. Also on exhibit in May is a glimpse into an exhibit from the Maine Folklife Center: Threads of Our Lives: Maine Folk Fiber Art.
LOCATION:Southwest Harbor Public Library
UID:e.3061.2561
SEQUENCE:3
DTSTAMP:20260421T031654Z
URL:https://www.visitbarharbor.com/events/details/hooked-rugs-exhibit-05-26-2018-2561
END:VEVENT

END:VCALENDAR
