BEGIN:VCALENDAR
VERSION:2.0
PRODID:-//ChamberMaster//Event Calendar 2.0//EN
METHOD:PUBLISH
X-PUBLISHED-TTL:P3D
REFRESH-INTERVAL:P3D
CALSCALE:GREGORIAN
BEGIN:VEVENT
DTSTART:20181013T140000Z
DTEND:20181013T200000Z
X-MICROSOFT-CDO-ALLDAYEVENT:FALSE
SUMMARY:Hood Ornament (Lalique Falcon) Carving Workshop at the Seal Cove Auto Museum
DESCRIPTION:In this one-day class\, we will make a wooden hood ornament carving of a falcon\, based on a beautifully designed hood ornament created by the famous French artist Renee Lalique\, who created an original version in art glass. The wooden hood ornament can be left as a carving in wood\, or painted with chrome spray paint to approximate a metal finish. This class is an exciting collaboration between two Quietside museums. Steven Valleau\, master carver at the Wendell Gilley Museum will lead the class\, which will be held at the Seal Cove Auto Museum\, whose collection inspired the class.
X-ALT-DESC;FMTTYPE=text/html:In this one-day class\, we will make a wooden hood ornament carving of a falcon\, based on a beautifully designed hood ornament created by the famous French artist Renee Lalique\, who created an original version in art glass. The wooden hood ornament can be left as a carving in wood\, or painted with chrome spray paint to approximate a metal finish. This class is an exciting collaboration between two Quietside museums. Steven Valleau\, master carver at the Wendell Gilley Museum will lead the class\, which will be held at the Seal Cove Auto Museum\, whose collection inspired the class.
LOCATION:Seal Cove Auto Museum 1414 Tremont Rd\, Seal Cove\, ME 04674
UID:e.3061.3530
SEQUENCE:3
DTSTAMP:20260420T132936Z
URL:https://www.visitbarharbor.com/events/details/hood-ornament-lalique-falcon-carving-workshop-at-the-seal-cove-auto-museum-3530
END:VEVENT

END:VCALENDAR
