BEGIN:VCALENDAR
VERSION:2.0
PRODID:-//ChamberMaster//Event Calendar 2.0//EN
METHOD:PUBLISH
X-PUBLISHED-TTL:P3D
REFRESH-INTERVAL:P3D
CALSCALE:GREGORIAN
BEGIN:VEVENT
DTSTART:20181220T190000Z
DTEND:20181220T203000Z
X-MICROSOFT-CDO-ALLDAYEVENT:FALSE
SUMMARY:Holiday Tea at the SWH Library
DESCRIPTION:You are invited to the SWH Library for a holiday-themed tea. Enjoy a cup of tea by the Library's fireplace\, nibble on a homemade treat\, and enjoy the company of others. Ruth Grierson and friends will provide live music. All are welcome.
X-ALT-DESC;FMTTYPE=text/html:You are invited to the SWH Library for a holiday-themed tea. Enjoy a cup of tea by the Library&rsquo\;s fireplace\, nibble on a homemade treat\, and enjoy the company of others. Ruth Grierson and friends will provide live music. All are welcome.
LOCATION:Southwest Harbor Public Library
UID:e.3061.4509
SEQUENCE:3
DTSTAMP:20260420T100228Z
URL:https://www.visitbarharbor.com/events/details/holiday-tea-at-the-swh-library-4509
END:VEVENT

END:VCALENDAR
