BEGIN:VCALENDAR
VERSION:2.0
PRODID:-//ChamberMaster//Event Calendar 2.0//EN
METHOD:PUBLISH
X-PUBLISHED-TTL:P3D
REFRESH-INTERVAL:P3D
CALSCALE:GREGORIAN
BEGIN:VEVENT
DTSTART:20181113T220000Z
DTEND:20181114T010000Z
X-MICROSOFT-CDO-ALLDAYEVENT:FALSE
SUMMARY:Holiday Printmaking Workshop
DESCRIPTION:As the weather cools down and the holiday season approaches\, it's the perfect time for a printmaking workshop! Come make holiday cards at the Gilley on Tuesday\, Nov 13\, 5-8pm. This is a wonderful opportunity to learn about the art of printmaking and create something special for your loved ones. Limited space\, advance registration required. Please contact us at 244 7555 or info@wendellgilleymuseum.org. We're excited to see you!
X-ALT-DESC;FMTTYPE=text/html:As the weather cools down and the holiday season approaches\, it&#39\;s the perfect time for a printmaking workshop! Come make holiday cards at the Gilley on Tuesday\, Nov 13\, 5-8pm. This is a wonderful opportunity to learn about the art of printmaking and create something special for your loved ones. Limited space\, advance registration required. Please contact us at 244 7555 or info@wendellgilleymuseum.org. We&#39\;re excited to see you!
LOCATION:Wendell Gilley Museum 4 Herrick Rd Southwest Harbor 04679
UID:e.3061.4279
SEQUENCE:3
DTSTAMP:20260420T112918Z
URL:https://www.visitbarharbor.com/events/details/holiday-printmaking-workshop-4279
END:VEVENT

END:VCALENDAR
