BEGIN:VCALENDAR
VERSION:2.0
PRODID:-//ChamberMaster//Event Calendar 2.0//EN
METHOD:PUBLISH
X-PUBLISHED-TTL:P3D
REFRESH-INTERVAL:P3D
CALSCALE:GREGORIAN
BEGIN:VEVENT
DTSTART:20181205T230000Z
DTEND:20181206T020000Z
X-MICROSOFT-CDO-ALLDAYEVENT:FALSE
SUMMARY:Holiday Printmaking
DESCRIPTION:$15 for kids under 15 - pay at the door\n\n\n\nJoin Jessica Harris at a fun evening of holiday printmaking.\n\nCards\, wrapping paper\, gift tags - you can make your own design and print as many as you'd like!\n\nNo experience necessary- we supply it all -\n\n6-9 PM\n\nJoin us for "Holiday Workshops" at ArtWaves\, each week featuring a specialized holiday project\, from candle making to star glass mosaics to bookmaking. December 5: Holiday card printmaking with Jessica\n\nDecember 12: Woven ornaments with Cristy
X-ALT-DESC;FMTTYPE=text/html:<div>\n<div>$15 for kids under 15 - pay at the door</div>\n</div>\n\n<div>\n<p>Join Jessica Harris at a fun evening of holiday printmaking.<br />\nCards\, wrapping paper\, gift tags - you can make your own design and print as many as you&#39\;d like!<br />\nNo experience necessary- we supply it all -</p>\n\n<p>6-9 PM</p>\n\n<p>Join us for &quot\;Holiday Workshops&quot\; at ArtWaves\, each week featuring a specialized holiday project\, from candle making to star glass mosaics to bookmaking. December 5: Holiday card printmaking with Jessica</p>\n\n<p>December 12: Woven ornaments with Cristy</p>\n</div>\n
LOCATION:1345 State Highway 102 Town Hill Bar harbor
UID:e.3061.4517
SEQUENCE:3
DTSTAMP:20260420T095728Z
URL:https://www.visitbarharbor.com/events/details/holiday-printmaking-4517
END:VEVENT

END:VCALENDAR
