BEGIN:VCALENDAR
VERSION:2.0
PRODID:-//ChamberMaster//Event Calendar 2.0//EN
METHOD:PUBLISH
X-PUBLISHED-TTL:P3D
REFRESH-INTERVAL:P3D
CALSCALE:GREGORIAN
BEGIN:VEVENT
DTSTART;VALUE=DATE:20181207
DTEND;VALUE=DATE:20181208
TRANSP:TRANSPARENT
X-MICROSOFT-CDO-ALLDAYEVENT:TRUE
SUMMARY:Holiday Open House
DESCRIPTION:It's time once again to celebrate the season at\n\nFirst National Bank's Holiday Open House!\n\n \n\nWe're decking the halls and inviting all our customers and community friends to drop by your nearby branch for festive food\, beverages and holiday fun.\n\n \n\nStop by any branch on Friday\, December 7 to celebrate with us!
X-ALT-DESC;FMTTYPE=text/html:<div style="text-align:center"><span style="color:black"><span style="font-family:arial\,sans-serif"><span style="font-size:13.5pt">It&#39\;s time once again to celebrate the season at</span></span></span><br />\n<strong><span style="color:black"><span style="font-family:arial\,sans-serif"><span style="font-size:13.5pt">First National Bank&#39\;s Holiday Open House</span></span></span></strong><span style="color:black"><span style="font-family:arial\,sans-serif"><span style="font-size:13.5pt">!</span></span></span><br />\n&nbsp\;<br />\n<span style="color:black"><span style="font-family:arial\,sans-serif">We&#39\;re decking the halls and inviting all our customers and community friends to drop by your nearby branch for festive food\, beverages and holiday fun.</span></span><br />\n&nbsp\;<br />\n<span style="color:black"><span style="font-family:arial\,sans-serif"><span style="font-size:12.0pt">Stop by any branch on Friday\, December 7 to celebrate with us!</span></span></span></div>\n
LOCATION:
UID:e.3061.4751
SEQUENCE:3
DTSTAMP:20260420T095914Z
URL:https://www.visitbarharbor.com/events/details/holiday-open-house-4751
END:VEVENT

END:VCALENDAR
