BEGIN:VCALENDAR
VERSION:2.0
PRODID:-//ChamberMaster//Event Calendar 2.0//EN
METHOD:PUBLISH
X-PUBLISHED-TTL:P3D
REFRESH-INTERVAL:P3D
CALSCALE:GREGORIAN
BEGIN:VEVENT
DTSTART:20181104T180000Z
DTEND:20181104T203000Z
X-MICROSOFT-CDO-ALLDAYEVENT:FALSE
SUMMARY:Holiday Makers Faire Stained Create Glass Mosaics and More
DESCRIPTION:Cut and Color with Stained glass! Let your light shine!\nMake and take home some unique mosaic pieces.We include it all\nAnyone over 5 can work with our heaps of colored glass to create shimmery light filled gifts\, ornaments.\nEvery Sunday afternoon\, we will be holding "Maker's Fairs" at ArtWaves\, where you will have access to a variety of holiday-themed projects.\n\nNov 4 = Glass\n\nNov 11 = Printmaking\n\nNov 18 = Fiber\n\nNov 25 = Wax\n\nDec 2 = Plaster
X-ALT-DESC;FMTTYPE=text/html:<div>\n<pre>\nCut and Color with Stained glass! Let your light shine!\nMake and take home some unique mosaic pieces.We include it all\nAnyone over 5 can work with our heaps of colored glass to create shimmery light filled gifts\, ornaments.\nEvery Sunday afternoon\, we will be holding &quot\;Maker&#39\;s Fairs&quot\; at ArtWaves\, where you will have access to a variety of holiday-themed projects.</pre>\n\n<p>Nov&nbsp\;4 = Glass</p>\n\n<p>Nov 11 = Printmaking</p>\n\n<p>Nov 18 = Fiber</p>\n\n<p>Nov 25 = Wax</p>\n\n<p>Dec 2 = Plaster</p>\n\n<p>&nbsp\;</p>\n</div>\n
LOCATION:ArtWaves 1345 State Highway 102 next to Town Hill Market Bar Harbor ME
UID:e.3061.4295
SEQUENCE:3
DTSTAMP:20260420T120013Z
URL:https://www.visitbarharbor.com/events/details/holiday-makers-faire-stained-create-glass-mosaics-and-more-4295
END:VEVENT

END:VCALENDAR
