BEGIN:VCALENDAR
VERSION:2.0
PRODID:-//ChamberMaster//Event Calendar 2.0//EN
METHOD:PUBLISH
X-PUBLISHED-TTL:P3D
REFRESH-INTERVAL:P3D
CALSCALE:GREGORIAN
BEGIN:VEVENT
DTSTART:20181212T200000Z
DTEND:20181212T210000Z
X-MICROSOFT-CDO-ALLDAYEVENT:FALSE
SUMMARY:Holiday High Tea at Woodlawn
DESCRIPTION:Enjoy a traditional high tea among the wonderful decorations in the historic Black House at Woodlawn. Catered by Flexit Cafe & Bakery in Ellsworth. The cost for the high tea is $22 for Woodlawn members/$25 for non-members and includes your visit of the museum. Space is limited. RSVP required. Purchase tickets online at woodlawnmuseum.org or call 207-667-8671.
X-ALT-DESC;FMTTYPE=text/html:Enjoy a traditional high tea among the wonderful decorations in the historic Black House at Woodlawn. Catered by Flexit Cafe &amp\; Bakery in Ellsworth. The cost for the high tea is $22 for Woodlawn members/$25 for non-members and includes your visit of the museum. Space is limited. RSVP required. Purchase tickets online at woodlawnmuseum.org or call 207-667-8671.
LOCATION:Woodlawn Museum
UID:e.3061.4783
SEQUENCE:3
DTSTAMP:20260420T132646Z
URL:https://www.visitbarharbor.com/events/details/holiday-high-tea-at-woodlawn-12-12-2018-4783
END:VEVENT

END:VCALENDAR
