BEGIN:VCALENDAR
VERSION:2.0
PRODID:-//ChamberMaster//Event Calendar 2.0//EN
METHOD:PUBLISH
X-PUBLISHED-TTL:P3D
REFRESH-INTERVAL:P3D
CALSCALE:GREGORIAN
BEGIN:VEVENT
DTSTART:20181203T230000Z
DTEND:20181204T003000Z
X-MICROSOFT-CDO-ALLDAYEVENT:FALSE
SUMMARY:Holiday Concert and Sing-Along with the Acadia Bell Choir
DESCRIPTION:Get in the holiday spirit with the Acadia Bell Choir! Carefully choreographed\, the entire choir acts as one instrument\, and will perform a mix of traditional carols and holiday tunes. Audience members are invited to raise their voices in a sing-along at the end of the program.
X-ALT-DESC;FMTTYPE=text/html:Get in the holiday spirit with the Acadia Bell Choir! Carefully choreographed\, the entire choir acts as one instrument\, and will perform a mix of traditional carols and holiday tunes. Audience members are invited to raise their voices in a sing-along at the end of the program.
LOCATION:Southwest Harbor Public Library
UID:e.3061.4508
SEQUENCE:3
DTSTAMP:20260420T114922Z
URL:https://www.visitbarharbor.com/events/details/holiday-concert-and-sing-along-with-the-acadia-bell-choir-4508
END:VEVENT

END:VCALENDAR
