BEGIN:VCALENDAR
VERSION:2.0
PRODID:-//ChamberMaster//Event Calendar 2.0//EN
METHOD:PUBLISH
X-PUBLISHED-TTL:P3D
REFRESH-INTERVAL:P3D
CALSCALE:GREGORIAN
BEGIN:VEVENT
DTSTART:20181208T140000Z
DTEND:20181208T180000Z
X-MICROSOFT-CDO-ALLDAYEVENT:FALSE
SUMMARY:Holiday Book Sale
DESCRIPTION:Come to the annual Holiday Book Sale at the Southwest Harbor Public Library! Hundreds of hardcover and paperback books will be for sale\, in new or nearly new condition perfect for gift giving. We'll also feature a selection of rare and collectible books. Find wonderful treasures for everyone on your holiday gift list. All proceeds support the Library's ongoing programs and operations. For more information\, call the Library at 244-7065.
X-ALT-DESC;FMTTYPE=text/html:Come to the annual Holiday Book Sale at the Southwest Harbor Public Library! Hundreds of hardcover and paperback books will be for sale\, in new or nearly new condition&mdash\;perfect for gift giving. We&rsquo\;ll also feature a selection of rare and collectible books. Find wonderful treasures for everyone on your holiday gift list. All proceeds support the Library&rsquo\;s ongoing programs and operations. For more information\, call the Library at 244-7065.
LOCATION:Southwest Harbor Public Librar
UID:e.3061.3979
SEQUENCE:3
DTSTAMP:20260420T100229Z
URL:https://www.visitbarharbor.com/events/details/holiday-book-sale-3979
END:VEVENT

END:VCALENDAR
