BEGIN:VCALENDAR
VERSION:2.0
PRODID:-//ChamberMaster//Event Calendar 2.0//EN
METHOD:PUBLISH
X-PUBLISHED-TTL:P3D
REFRESH-INTERVAL:P3D
CALSCALE:GREGORIAN
BEGIN:VEVENT
DTSTART:20181107T230000Z
DTEND:20181108T020000Z
X-MICROSOFT-CDO-ALLDAYEVENT:FALSE
SUMMARY:Holiday Book Making
DESCRIPTION:Learn how to make beautiful soft cover books incorporating blockprinted papers you will design and print in class. While papers are drying we will fold tiny "star" books\, which are also as lovely holiday ornaments. Instructor: Shira Singer\n\nJoin us for "Holiday Workshops" at ArtWaves\, each week featuring a specialized holiday project\, from candle making to star glass mosaics to bookmaking.Every Wednesday evening from Nov 7-Dec 12\, taking the week off for Thanksgiving.\n\nNovember 7: Book Making with Shira\n\nNovember 14: Candle Making with Kate\n\nNovember 28: Painted Ornaments with Jessica\n\nDecember 5: Holiday card printmaking with Jessica\n\nDecember 12: Woven ornaments with Cristy
X-ALT-DESC;FMTTYPE=text/html:<div>Learn how to make beautiful soft cover books incorporating blockprinted papers you will design and print in class. While papers are drying we will fold tiny &ldquo\;star&rdquo\; books\, which are also as lovely holiday ornaments. Instructor: Shira Singer</div>\n\n<div>Join us for &quot\;Holiday Workshops&quot\; at ArtWaves\, each week featuring a specialized holiday project\, from candle making to star glass mosaics to bookmaking.Every Wednesday evening from&nbsp\;Nov 7-Dec 12\, taking the week off for Thanksgiving.</div>\n\n<p>November 7: Book Making with Shira<br />\nNovember 14: Candle Making with Kate<br />\nNovember 28: Painted Ornaments with Jessica<br />\nDecember 5: Holiday card printmaking with Jessica<br />\nDecember 12: Woven ornaments with Cristy</p>\n
LOCATION:ArtWaves 1345a State Highway 102 Bar Harbor\, ME 04609
UID:e.3061.4248
SEQUENCE:3
DTSTAMP:20260420T113929Z
URL:https://www.visitbarharbor.com/events/details/holiday-book-making-4248
END:VEVENT

END:VCALENDAR
