BEGIN:VCALENDAR
VERSION:2.0
PRODID:-//ChamberMaster//Event Calendar 2.0//EN
METHOD:PUBLISH
X-PUBLISHED-TTL:P3D
REFRESH-INTERVAL:P3D
CALSCALE:GREGORIAN
BEGIN:VEVENT
DTSTART:20180517T210000Z
DTEND:20180517T233000Z
X-MICROSOFT-CDO-ALLDAYEVENT:FALSE
SUMMARY:History Happy Hour: Jeopardy!
DESCRIPTION:Coming soon\, the MDI Historical Society and Seal Cove Auto Museum will host their May History Happy Hour at Galyn's Restaurant in Bar Harbor - Jeopardy style! - and teams will compete to answer correctly original questions posed in categories such as:\n\n	Island History\n	Yankee Ingenuity\n	Name That Object!\n	Chebacco (The MDIHS's annual publication)\n	Art\, Advertising\, and the Automobile (The Seal Cove Auto Museum's new exhibit)\n\nThe evening is part of a "History Happy Hour" series geared towards members of the Seal Cove Auto Museum and the MDI Historical Society. These events provide an opportunity for members to mingle with friends\, neighbors\, and fellow history buffs\, imbibe local spirits\, and learn a little something new. Nonmembers have the opportunity to join both the Seal Cove Auto Museum and MDIHS at a special dual membership rate of $50.
X-ALT-DESC;FMTTYPE=text/html:<span style="color:rgb(34\, 34\, 34)\; font-family:arial\,verdana\,sans-serif\; font-size:12px">Coming soon\, the MDI Historical Society and Seal Cove Auto Museum will host their May History Happy Hour at&nbsp\;</span><a href="https://www.galynsbarharbor.com/" style="font-family: Arial\, Verdana\, sans-serif\; font-size: 12px\;" target="_blank">Galyn&rsquo\;s Restaurant</a><span style="color:rgb(34\, 34\, 34)\; font-family:arial\,verdana\,sans-serif\; font-size:12px">&nbsp\;in Bar Harbor - Jeopardy style! - and teams will compete to answer correctly original questions posed in categories such as:</span>\n<ul>\n	<li>Island History</li>\n	<li>Yankee Ingenuity</li>\n	<li>Name That Object!</li>\n	<li>Chebacco&nbsp\;<em>(The MDIHS&rsquo\;s annual publication)</em></li>\n	<li>Art\, Advertising\, and the Automobile&nbsp\;<em>(The Seal Cove Auto Museum&rsquo\;s new exhibit)</em></li>\n</ul>\n<span style="color:rgb(34\, 34\, 34)\; font-family:arial\,verdana\,sans-serif\; font-size:12px">The evening is part of a &ldquo\;History Happy Hour&rdquo\; series geared towards members of the Seal Cove Auto Museum and the&nbsp\;</span><a href="http://mdihistory.org/" style="font-family: Arial\, Verdana\, sans-serif\; font-size: 12px\;">MDI Historical Society</a><span style="color:rgb(34\, 34\, 34)\; font-family:arial\,verdana\,sans-serif\; font-size:12px">. These events provide an opportunity for members to mingle with friends\, neighbors\, and fellow history buffs\, imbibe local spirits\, and learn a little something new. Nonmembers have the opportunity to&nbsp\;</span><a href="https://www.sealcoveautomuseum.org/get-involved/become-a-member/" style="font-family: Arial\, Verdana\, sans-serif\; font-size: 12px\;">join both the Seal Cove Auto Museum and MDIHS</a><span style="color:rgb(34\, 34\, 34)\; font-family:arial\,verdana\,sans-serif\; font-size:12px">&nbsp\;at a special dual membership rate of $50.</span>
LOCATION:Galyn's Restaurant\, 17 Main Street\, Bar Harbor\, ME 40609
UID:e.3061.803
SEQUENCE:3
DTSTAMP:20260420T214621Z
URL:https://www.visitbarharbor.com/events/details/history-happy-hour-jeopardy-803
END:VEVENT

END:VCALENDAR
