BEGIN:VCALENDAR
VERSION:2.0
PRODID:-//ChamberMaster//Event Calendar 2.0//EN
METHOD:PUBLISH
X-PUBLISHED-TTL:P3D
REFRESH-INTERVAL:P3D
CALSCALE:GREGORIAN
BEGIN:VEVENT
DTSTART:20181018T210000Z
DTEND:20181018T230000Z
X-MICROSOFT-CDO-ALLDAYEVENT:FALSE
SUMMARY:History Happy Hour: Bar Harbor Ghost Tour
DESCRIPTION:Join fellow members of the Seal Cove Auto Museum and MDI Historical Society\n\n for a night of spooky history\, tales of local ghosts\, and Wabanaki spirit stories! \n\n \n\nJen Pictou of Bar Harbor Ghost Tours\, one of the top ghost tours in the US\, will lead members on a walk quite unlike any ever ventured in downtown Bar Harbor   from a haunted historical theater\, to a well-known area in town that is laden with intrigue and mystery\, to a haunted pub.\n\n \n\nAccording to Bar Harbor Ghost Tours\, all of their tours are history-based\, and information shared on the tours has been collected from personal interview\, archives\, historical societies\, and museums.\n\n \n\nThe walking tour will kick off at the 1932 Criterion Theatre on Cottage Street at 5:00 p.m. The tour will last about an hour and end at Leary's Landing on Main Street\, where members will have the opportunity to imbibe local spirits\, catch up with other members\, and ask questions of Pictou\, and MDI Historical Society and Seal Cove Auto Museum staff. Food and drink will be available for purchase.\n\n\n\nThis evening is part of the History Happy Hour series geared toward members of both museums and their friends. Nonmembers can join both the Seal Cove Auto Museum and the MDI Historical Society at a special dual rate of $50.\n\n \n\nBar Harbor in mid-October can be misty and chilly\, so members are advised to bring a jacket and umbrella. Wear comfortable shoes and layers to accommodate variances in temperature and weather.
X-ALT-DESC;FMTTYPE=text/html:<p><em><strong>Join fellow members of the Seal Cove Auto Museum and MDI Historical Society<br />\n&nbsp\;for a night of spooky history\, tales of local ghosts\, and Wabanaki spirit stories!&nbsp\;</strong></em></p>\n\n<p style="text-align: center\;">&nbsp\;<br />\nJen Pictou of <a href="https://sealcoveautomuseum.us7.list-manage.com/track/click?u=d821190711455edca1af00072&amp\;id=957cdbe3c6&amp\;e=1ac38c3a5f" rel="noopener noreferrer" style="color: rgb(225\, 155\, 0)\; font-weight: 400\; text-decoration: none\; word-wrap: break-word\;" target="_blank">Bar Harbor Ghost Tours</a>\, one of the top ghost tours in the US\, will lead members on a walk quite unlike any ever ventured in downtown Bar Harbor &ndash\; from a haunted historical theater\, to a well-known area in town that is laden with intrigue and mystery\, to a haunted pub.<br />\n&nbsp\;<br />\nAccording to Bar Harbor Ghost Tours\, all of their tours are history-based\, and information shared on the tours has been collected from personal interview\, archives\, historical societies\, and museums.<br />\n&nbsp\;<br />\nThe walking tour will kick off at the <a href="https://sealcoveautomuseum.us7.list-manage.com/track/click?u=d821190711455edca1af00072&amp\;id=8d75522a4e&amp\;e=1ac38c3a5f" rel="noopener noreferrer" style="color: rgb(225\, 155\, 0)\; font-weight: 400\; text-decoration: none\; word-wrap: break-word\;" target="_blank">1932 Criterion Theatre</a> on Cottage Street at 5:00 p.m. The tour will last about an hour and end at <a href="https://sealcoveautomuseum.us7.list-manage.com/track/click?u=d821190711455edca1af00072&amp\;id=dd3d042f3b&amp\;e=1ac38c3a5f" rel="noopener noreferrer" style="color: rgb(225\, 155\, 0)\; font-weight: 400\; text-decoration: none\; word-wrap: break-word\;" target="_blank">Leary&rsquo\;s Landing</a> on Main Street\, where members will have the opportunity to imbibe local spirits\, catch up with other members\, and ask questions of Pictou\, and&nbsp\;<a href="https://sealcoveautomuseum.us7.list-manage.com/track/click?u=d821190711455edca1af00072&amp\;id=7f1cfdecf9&amp\;e=1ac38c3a5f" rel="noopener noreferrer" style="color: rgb(225\, 155\, 0)\; font-weight: 400\; text-decoration: none\; word-wrap: break-word\;" target="_blank">MDI Historical Society</a> and <a href="https://sealcoveautomuseum.us7.list-manage.com/track/click?u=d821190711455edca1af00072&amp\;id=8a33e09f76&amp\;e=1ac38c3a5f" rel="noopener noreferrer" style="color: rgb(225\, 155\, 0)\; font-weight: 400\; text-decoration: none\; word-wrap: break-word\;" target="_blank">Seal Cove Auto Museum</a> staff. Food and drink will&nbsp\;be available for purchase.<br />\n<br />\nThis evening is part of the History Happy Hour series geared toward members of both museums and their friends. Nonmembers can <a href="https://sealcoveautomuseum.us7.list-manage.com/track/click?u=d821190711455edca1af00072&amp\;id=72cfeacebd&amp\;e=1ac38c3a5f" rel="noopener noreferrer" style="color: rgb(225\, 155\, 0)\; font-weight: 400\; text-decoration: none\; word-wrap: break-word\;" target="_blank">join both the Seal Cove Auto Museum and the MDI Historical Society</a> at a special dual rate of $50.<br />\n&nbsp\;<br />\nBar Harbor in mid-October can be misty and chilly\, so members are advised to bring a jacket and umbrella. Wear comfortable shoes and layers to accommodate variances in temperature and weather.<br />\n&nbsp\;</p>\n
LOCATION:Starts at the 1932 Criterion Theatre on Cottage Street in Bar Harbor
UID:e.3061.3948
SEQUENCE:3
DTSTAMP:20260420T132126Z
URL:https://www.visitbarharbor.com/events/details/history-happy-hour-bar-harbor-ghost-tour-3948
END:VEVENT

END:VCALENDAR
