BEGIN:VCALENDAR
VERSION:2.0
PRODID:-//ChamberMaster//Event Calendar 2.0//EN
METHOD:PUBLISH
X-PUBLISHED-TTL:P3D
REFRESH-INTERVAL:P3D
CALSCALE:GREGORIAN
BEGIN:VEVENT
DTSTART:20190227T220000Z
DTEND:20190228T000000Z
X-MICROSOFT-CDO-ALLDAYEVENT:FALSE
SUMMARY:History Happy Hour
DESCRIPTION:We all know the classic Jeopardy game   now it's time to give it a local twist! At our February History Happy Hour at McKay's Public House in Bar Harbor\, teams will compete to answer original questions posed in categories such as:\n\n\n	Beholdings (Mount Desert Island Historical Society's Somesville Museum exhibit)\n	Feats and Firsts (shared category)\n	Art\, Advertising\, and the Automobile (Seal Cove Auto Museum's exhibit)\n\n\nFree for members and friends. Food and drink will be available for purchase.\n\nThe evening is part of a "History Happy Hour" series geared towards members of the Seal Cove Auto Museum and the MDI Historical Society. These events provide an opportunity for members to mingle with friends\, neighbors\, and fellow history buffs\, imbibe local spirits\, and learn a little something new. Nonmembers have the opportunity to join both the Seal Cove Auto Museum and MDIHS at a special dual membership rate of $50.
X-ALT-DESC;FMTTYPE=text/html:<p>We all know the classic Jeopardy game &ndash\; now it&rsquo\;s time to give it a local twist! At our February History Happy Hour at McKay&#39\;s Public House in Bar Harbor\, teams will compete to answer original questions posed in categories such as:</p>\n\n<ul>\n	<li>Beholdings (<em>Mount Desert Island Historical Society&#39\;s Somesville Museum exhibit)</em></li>\n	<li>Feats and Firsts (<em>shared category</em>)</li>\n	<li>Art\, Advertising\, and the Automobile&nbsp\;<em>(Seal Cove Auto Museum&rsquo\;s exhibit)</em></li>\n</ul>\n\n<p>Free for members and friends. Food and drink will be available for purchase.</p>\n\n<p>The evening is part of a &ldquo\;History Happy Hour&rdquo\; series geared towards members of the Seal Cove Auto Museum and the&nbsp\;<a href="http://mdihistory.org/" style="box-sizing: border-box\; margin: 0px\; padding: 0px\; border: 0px\; outline: 0px\; background: transparent\; vertical-align: baseline\; color: rgb(205\, 92\, 92)\; text-decoration-line: none\;">MDI Historical Society</a>. These events provide an opportunity for members to mingle with friends\, neighbors\, and fellow history buffs\, imbibe local spirits\, and learn a little something new. Nonmembers have the opportunity to&nbsp\;<a href="https://www.sealcoveautomuseum.org/get-involved/become-a-member/" style="box-sizing: border-box\; margin: 0px\; padding: 0px\; border: 0px\; outline: 0px\; background: transparent\; vertical-align: baseline\; color: rgb(205\, 92\, 92)\; text-decoration-line: none\;">join both the Seal Cove Auto Museum and MDIHS</a>&nbsp\;at a special dual membership rate of $50.</p>\n
LOCATION:McKay's Public House 231 Main St. Bar Harbor\, ME
UID:e.3061.5091
SEQUENCE:3
DTSTAMP:20260420T062421Z
URL:https://www.visitbarharbor.com/events/details/history-happy-hour-5091
END:VEVENT

END:VCALENDAR
