BEGIN:VCALENDAR
VERSION:2.0
PRODID:-//ChamberMaster//Event Calendar 2.0//EN
METHOD:PUBLISH
X-PUBLISHED-TTL:P3D
REFRESH-INTERVAL:P3D
CALSCALE:GREGORIAN
BEGIN:VEVENT
DTSTART:20180907T170000Z
DTEND:20180907T193000Z
X-MICROSOFT-CDO-ALLDAYEVENT:FALSE
SUMMARY:Historic Maine Cooking
DESCRIPTION:Le Cordon Bleu trained chef will explain history and seasonal foods of Maine. You will learn food facts\, techniques\, history\,  and traditional recipes while tasting such favorites as lobster\, Maine wild blueberries\, etc. You will be able to impress others with your new knowledge of everything Lobster. Opportunities to assist the chef will be available. 2 1/2 hr   $50.00
X-ALT-DESC;FMTTYPE=text/html:<span style="font-family:calibri\,sans-serif\; font-size:10pt">Le Cordon Bleu trained chef will explain history and seasonal foods of Maine. You will learn food facts\, techniques\, history\,&nbsp\; and traditional recipes while tasting such favorites as lobster\, Maine wild blueberries\, etc. You will be able to impress others with your new knowledge of everything Lobster. Opportunities to assist the chef will be available. 2 1/2 hr&nbsp\; &nbsp\;$50.00<br />\n<!--[if !supportLineBreakNewLine]--><br />\n<!--[endif]--></span>
LOCATION:19 Rodick St.\, Bar Harbor\, ME 04609
UID:e.3061.717
SEQUENCE:3
DTSTAMP:20260420T164228Z
URL:https://www.visitbarharbor.com/events/details/historic-maine-cooking-09-07-2018-717
END:VEVENT

END:VCALENDAR
