BEGIN:VCALENDAR
VERSION:2.0
PRODID:-//ChamberMaster//Event Calendar 2.0//EN
METHOD:PUBLISH
X-PUBLISHED-TTL:P3D
REFRESH-INTERVAL:P3D
CALSCALE:GREGORIAN
BEGIN:VEVENT
DTSTART:20191119T211000Z
DTEND:20191119T223000Z
X-MICROSOFT-CDO-ALLDAYEVENT:FALSE
SUMMARY:HELIO: Redesigning Japanese Higher Education with the Human Ecology Lab in Osakikamijima
DESCRIPTION:Participants in the College of the Atlantic Human Ecology Lab and Island Odyssey program (HELIO) in Osakikamijima\, Japan join the COA Human Ecology Forum to speak about the impact of the program on both COA and Japanese higher education.
X-ALT-DESC;FMTTYPE=text/html:Participants in the College of the Atlantic Human Ecology Lab and Island Odyssey program (HELIO) in Osakikamijima\, Japan join the COA Human Ecology Forum to speak about the impact of the program on both COA and Japanese higher education.
LOCATION:College of the Atlantic McCormick Lecture Hall 105 Eden St. Bar Harbor\, ME 04609
UID:e.3061.15255
SEQUENCE:3
DTSTAMP:20260419T160325Z
URL:https://www.visitbarharbor.com/events/details/helio-redesigning-japanese-higher-education-with-the-human-ecology-lab-in-osakikamijima-15255
END:VEVENT

END:VCALENDAR
