BEGIN:VCALENDAR
VERSION:2.0
PRODID:-//ChamberMaster//Event Calendar 2.0//EN
METHOD:PUBLISH
X-PUBLISHED-TTL:P3D
REFRESH-INTERVAL:P3D
CALSCALE:GREGORIAN
BEGIN:VEVENT
DTSTART:20190307T000000Z
DTEND:20190307T010000Z
X-MICROSOFT-CDO-ALLDAYEVENT:FALSE
SUMMARY:Healthy Food Talk
DESCRIPTION:Often people on a limited budget are left with few healthy food choices and because of this face greater health risks. Join Jenny Jones\, Executive Director of the Bar Harbor Food Pantry\, and Mary Parham\, Community Health Educator at the MDI Hospital\, at the Jesup Memorial Library on Wednesday\, March 6 at 7 p.m. as they talk about the challenges facing individuals on MDI and what can be done to fix these problems in both the short and long term. \n\n \n\nTogether will talk about healthy eating and food insecurity as well as share some tips and tricks people can use to eat healthier food on a budget. Parham will also discuss some of the food and healthy eating programs she offers to members of the community. Jones will speak about food insecurity in the community and will talk about what the pantry is doing to create access to healthier food and eliminate barriers that people in the MDI community face when trying to access this food. \n\n \n\nThis talk is happening during the Hancock County Food Drive which is a month-long food collection and fundraising project that happens annually in March and directly supports 17 food pantries\, free community meals\, and school backpack programs across the county. The food drive was started in 2012 to address the high rate of food insecurity the community faces during later winter and early spring. Members of the Hancock County Food Security Network work together throughout the month of March to raise funds and collect food. \n\n \n\nFor information on the talk contact the Jesup at 207-288-4245 or mrice@jesuplibrary.org.
X-ALT-DESC;FMTTYPE=text/html:<span style="font-family:times new roman\,serif"><span style="font-size:14.0pt">Often people on a limited budget are left with few healthy food choices and because of this face greater health risks. Join Jenny Jones\, Executive Director of the Bar Harbor Food Pantry\, and Mary Parham\, Community Health Educator at the MDI Hospital\, at the Jesup Memorial Library on Wednesday\, March 6 at 7 p.m. as they talk about the challenges facing individuals on MDI and what can be done to fix these problems in both the short and long term. </span></span><br />\n&nbsp\;<br />\n<span style="font-family:times new roman\,serif"><span style="font-size:14.0pt">Together will talk about healthy eating and food insecurity as well as share some tips and tricks people can use to eat healthier food on a budget. Parham will also discuss some of the food and healthy eating programs she offers to members of the community. Jones will speak about food insecurity in the community and will talk about what the pantry is doing to create access to healthier food and eliminate barriers that people in the MDI community face when trying to access this food. </span></span><br />\n&nbsp\;<br />\n<span style="font-family:times new roman\,serif"><span style="font-size:14.0pt">This talk is happening during the Hancock County Food Drive which is a month-long food collection and fundraising project that happens annually in March and directly supports 17 food pantries\, free community meals\, and school backpack programs across the county. The food drive was started in 2012 to address the high rate of food insecurity the community faces during later winter and early spring. Members of the Hancock County Food Security Network work together throughout the month of March to raise funds and collect food. </span></span><br />\n&nbsp\;<br />\n<span style="font-family:times new roman\,serif"><span style="font-size:14.0pt"><span>For information on the talk contact the Jesup at <span class="gc-cs-link" id="gc-number-0" title="Call with Google Voice">207-288-4245</span> or </span><a href="mailto:mrice@jesuplibrary.org">mrice@jesuplibrary.org</a></span>.</span>
LOCATION:Jesup Memorial Library\, 34 Mt. Desert St.\, Bar Harbor\, ME 04609
UID:e.3061.5369
SEQUENCE:3
DTSTAMP:20260420T043143Z
URL:https://www.visitbarharbor.com/events/details/healthy-food-talk-5369
END:VEVENT

END:VCALENDAR
