BEGIN:VCALENDAR
VERSION:2.0
PRODID:-//ChamberMaster//Event Calendar 2.0//EN
METHOD:PUBLISH
X-PUBLISHED-TTL:P3D
REFRESH-INTERVAL:P3D
CALSCALE:GREGORIAN
BEGIN:VEVENT
DTSTART:20181029T210000Z
DTEND:20181030T000000Z
X-MICROSOFT-CDO-ALLDAYEVENT:FALSE
SUMMARY:Haunted House
DESCRIPTION:It will be dark. It will be frightful. Walk through this historic Inn and see what nightmares await! This is a fundraiser for the MDI YMCA. All donations collected benefit the YMCA. Please come out to support our Y and support our community.
X-ALT-DESC;FMTTYPE=text/html:It will be dark. It will be frightful. Walk through this historic Inn and see what nightmares await! This is a fundraiser for the MDI YMCA. All donations collected benefit the YMCA. Please come out to support our Y and support our community.
LOCATION:Ivy Manor Inn 194 Main Street Bar Harbor
UID:e.3061.3968
SEQUENCE:3
DTSTAMP:20260420T130727Z
URL:https://www.visitbarharbor.com/events/details/haunted-house-3968
END:VEVENT

END:VCALENDAR
