BEGIN:VCALENDAR
VERSION:2.0
PRODID:-//ChamberMaster//Event Calendar 2.0//EN
METHOD:PUBLISH
X-PUBLISHED-TTL:P3D
REFRESH-INTERVAL:P3D
CALSCALE:GREGORIAN
BEGIN:VEVENT
DTSTART:20181030T210000Z
DTEND:20181031T000000Z
X-MICROSOFT-CDO-ALLDAYEVENT:FALSE
SUMMARY:Haunted House
DESCRIPTION:It will be dark. It will be frightful. Take a walk through this historic Inn and see what nightmares await! This is a fundraiser for the MDI YMCA. All donations collected benefit the YMCA. Recommended for ages 8+
X-ALT-DESC;FMTTYPE=text/html:It will be dark. It will be frightful. Take a walk through this historic Inn and see what nightmares await! This is a fundraiser for the MDI YMCA. All donations collected benefit the YMCA. Recommended for ages 8+
LOCATION:Ivy Manor Inn\, 194 Main Street Bar Harbor
UID:e.3061.3969
SEQUENCE:3
DTSTAMP:20260420T131926Z
URL:https://www.visitbarharbor.com/events/details/haunted-house-10-30-2018-3969
END:VEVENT

END:VCALENDAR
