BEGIN:VCALENDAR
VERSION:2.0
PRODID:-//ChamberMaster//Event Calendar 2.0//EN
METHOD:PUBLISH
X-PUBLISHED-TTL:P3D
REFRESH-INTERVAL:P3D
CALSCALE:GREGORIAN
BEGIN:VEVENT
DTSTART:20180528T200000Z
DTEND:20180528T213000Z
X-MICROSOFT-CDO-ALLDAYEVENT:FALSE
SUMMARY:Harmonie Universelle performs Baroque chamber-music at St. Saviour’s
DESCRIPTION:Harmonie Universelle performs Baroque chamber-music at St. Saviour's on Monday\, May 28 at 4:00 pm! 41 Mt. Desert Street\, Bar Harbor www.StSaviours.me The ensemble Harmonie Universelle will perform a concert of Baroque chamber-music for violin with harpsichord and cello on Monday May 28\, Memorial Day. The concert will take place at 4:00 pm in St. Saviour's Episcopal Church\, 41 Mt. Desert St.\, in Bar Harbor. Baroque violinist Heidi Powell will be joined by harpsichordist Dr. Daniel Pyle and Baroque cellist Max Treitler. The program will include sonatas for violin and continuo by Corelli and Albinoni\, as well as Bach's Sonata in G for violin and harpsichord\, and works for harpsichord and for unaccompanied violin. Admission to the concert is free but donations are requested. St. Saviour's is handicap accessible.
X-ALT-DESC;FMTTYPE=text/html:Harmonie Universelle performs Baroque chamber-music at St. Saviour&rsquo\;s on Monday\, May 28 at 4:00 pm! 41 Mt. Desert Street\, Bar Harbor www.StSaviours.me The ensemble Harmonie Universelle will perform a concert of Baroque chamber-music for violin with harpsichord and cello on Monday May 28\, Memorial Day. The concert will take place at 4:00 pm in St. Saviour&rsquo\;s Episcopal Church\, 41 Mt. Desert St.\, in Bar Harbor. Baroque violinist Heidi Powell will be joined by harpsichordist Dr. Daniel Pyle and Baroque cellist Max Treitler. The program will include sonatas for violin and continuo by Corelli and Albinoni\, as well as Bach&rsquo\;s Sonata in G for violin and harpsichord\, and works for harpsichord and for unaccompanied violin. Admission to the concert is free but donations are requested. St. Saviour&rsquo\;s is handicap accessible.
LOCATION:St. Saviour's Parish 41 Mt. Desert Street Bar Harbor
UID:e.3061.2482
SEQUENCE:3
DTSTAMP:20260420T233025Z
URL:https://www.visitbarharbor.com/events/details/harmonie-universelle-performs-baroque-chamber-music-at-st-saviour-s-2482
END:VEVENT

END:VCALENDAR
