BEGIN:VCALENDAR
VERSION:2.0
PRODID:-//ChamberMaster//Event Calendar 2.0//EN
METHOD:PUBLISH
X-PUBLISHED-TTL:P3D
REFRESH-INTERVAL:P3D
CALSCALE:GREGORIAN
BEGIN:VEVENT
DTSTART:20180519T210000Z
DTEND:20180519T230000Z
X-MICROSOFT-CDO-ALLDAYEVENT:FALSE
SUMMARY:Happy Hour Yoga
DESCRIPTION:Join Karen Roper for the next series of yoga classes featuring music from a different Rock 'n Roll icon each month!\n\n\n\nThis Happy Hour workshop will feature TOM PETTY!\n\n\n\nThis is a 90- minute vinyasa yoga flow with a TOM PETTY soundtrack followed with a social hour with friends! Class admission includes all props necessary for 90 minute yoga class led by Karen followed by happy hour beverages - choose from 1 glass of Prosecco (must be 21+ years of age) or 1 glass of sparkling cider (non-alcoholic). Come with a friend or come to make new friends!\n\n\n\nPre-registration and payment are required. Space is limited.\n\n\n\n$22/class or $100/5 classes!\n\n\n\n\n\nTo register please email Karen at roperkarene@gmail.com or call/text 630.476.4641.\n\n\n\nMay 19 from 5pm - 7pm\n\n\n\nROCK ON FRIENDS!\n\n \n\nDestination Health\, 53 Main Street\, 2nd Floor Bayside Plaza\, Bar Harbor\, ME
X-ALT-DESC;FMTTYPE=text/html:<div>Join&nbsp\;<a href="http://www.destinationhealthmdi.com/instructors/" style="box-sizing: border-box\; background: transparent\; color: rgb(47\, 136\, 149)\; text-decoration-line: none\;">Karen Roper</a>&nbsp\;for the next series of yoga classes featuring music from a different Rock &#39\;n Roll icon each month!<br />\n<br />\nThis Happy Hour workshop will feature TOM PETTY!<br />\n<br />\nThis is a 90- minute vinyasa yoga flow with a TOM PETTY soundtrack followed with a social hour with friends! Class admission includes all props necessary for 90 minute yoga class led by Karen followed by happy hour beverages - choose from 1 glass of Prosecco (must be 21+ years of age) or 1 glass of sparkling cider (non-alcoholic). Come with a friend or come to make new friends!<br />\n<br />\n<a href="http://www.destinationhealthmdi.com/class-schedule/" style="box-sizing: border-box\; background: transparent\; color: rgb(47\, 136\, 149)\; text-decoration-line: none\;">Pre-registration and payment are required</a>. Space is limited.<br />\n<br />\n$22/class or $100/5 classes!<br />\n<br />\n<br />\nTo register please email Karen at&nbsp\;<a href="mailto:roperkarene@gmail.com" style="box-sizing: border-box\; background: transparent\; color: rgb(47\, 136\, 149)\; text-decoration-line: none\;">roperkarene@gmail.com</a>&nbsp\;or call/text 630.476.4641.<br />\n<br />\n<a href="http://www.destinationhealthmdi.com/class-schedule/" style="box-sizing: border-box\; background: transparent\; color: rgb(47\, 136\, 149)\; text-decoration-line: none\;" target="_blank">May 19 from 5pm - 7pm</a><br />\n<br />\nROCK ON FRIENDS!</div>\n\n<p>&nbsp\;</p>\n\n<p>Destination Health\, 53 Main Street\, 2nd Floor Bayside Plaza\, Bar Harbor\, ME</p>\n
LOCATION:Destination Health\, 53 Main Street\, 2nd Floor Bayside Plaza\, Bar Harbor\, ME
UID:e.3061.813
SEQUENCE:3
DTSTAMP:20260420T232458Z
URL:https://www.visitbarharbor.com/events/details/happy-hour-yoga-813
END:VEVENT

END:VCALENDAR
