BEGIN:VCALENDAR
VERSION:2.0
PRODID:-//ChamberMaster//Event Calendar 2.0//EN
METHOD:PUBLISH
X-PUBLISHED-TTL:P3D
REFRESH-INTERVAL:P3D
CALSCALE:GREGORIAN
BEGIN:VEVENT
DTSTART:20181116T200000Z
DTEND:20181116T220000Z
X-MICROSOFT-CDO-ALLDAYEVENT:FALSE
SUMMARY:Hands on Zoom
DESCRIPTION:Do you have clients out of town? Do you charge them travel time? Would it be easier\, cheaper and more productive to meet with them on line? Today there are numerous virtual meeting/webinar platforms to allow your business to grow and succeed outside your geographical location. At Anchorspace we use (and love) Zoom. However\, you need to know how to use your platform or your message will be lost as you try to figure it out. This workshop will provide some tips and trick for remote communication and then you'll practice running Zoom video sessions in real time\, so that you can be fully at ease and effective when presenting to a remote audience.
X-ALT-DESC;FMTTYPE=text/html:Do you have clients out of town? Do you charge them travel time? Would it be easier\, cheaper and more productive to meet with them on line? Today there are numerous virtual meeting/webinar platforms to allow your business to grow and succeed outside your geographical location. At Anchorspace we use (and love) Zoom. However\, you need to know how to use your platform or your message will be lost as you try to figure it out. This workshop will provide some tips and trick for remote communication and then you&rsquo\;ll practice running Zoom video sessions in real time\, so that you can be fully at ease and effective when presenting to a remote audience.
LOCATION:Anchorspace Bar Harbor\, 337 Main Street Bar Harbor ME 04609 or Join from your location
UID:e.3061.4501
SEQUENCE:3
DTSTAMP:20260420T113218Z
URL:https://www.visitbarharbor.com/events/details/hands-on-zoom-11-16-2018-4501
END:VEVENT

END:VCALENDAR
