BEGIN:VCALENDAR
VERSION:2.0
PRODID:-//ChamberMaster//Event Calendar 2.0//EN
METHOD:PUBLISH
X-PUBLISHED-TTL:P3D
REFRESH-INTERVAL:P3D
CALSCALE:GREGORIAN
BEGIN:VEVENT
DTSTART:20191211T150000Z
DTEND:20191211T170000Z
X-MICROSOFT-CDO-ALLDAYEVENT:FALSE
SUMMARY:Hand Painted Ornaments
DESCRIPTION:with Jessica Harris. Design and paint your own Holiday ornaments to use as decor for your home or to give as gifts. Paint a pet or monogram the family name. Whatever you desire. All paints and materials are provided. Families and all ages are welcome..
X-ALT-DESC;FMTTYPE=text/html:with Jessica Harris. Design and paint your own Holiday ornaments to use as decor for your home or to give as gifts. Paint a pet or monogram the family name. Whatever you desire. All paints and materials are provided. Families and all ages are welcome..&nbsp\;&nbsp\;
LOCATION:ArtWaves\, 1345-A State Highway 102\, Bar Harbor.
UID:e.3061.17634
SEQUENCE:3
DTSTAMP:20260419T141506Z
URL:https://www.visitbarharbor.com/events/details/hand-painted-ornaments-17634
END:VEVENT

END:VCALENDAR
