BEGIN:VCALENDAR
VERSION:2.0
PRODID:-//ChamberMaster//Event Calendar 2.0//EN
METHOD:PUBLISH
X-PUBLISHED-TTL:P3D
REFRESH-INTERVAL:P3D
CALSCALE:GREGORIAN
BEGIN:VEVENT
DTSTART:20191030T133000Z
DTEND:20191030T163000Z
X-MICROSOFT-CDO-ALLDAYEVENT:FALSE
SUMMARY:Halloween Apple Cider Celebration
DESCRIPTION:The College of the Atlantic Food & Farming Workshop Series presents a community cider pressing with Mount Desert Island gleaning extraordinaire and local food enthusiast Joe Tracy\, complete with a Halloween costume contest. Everyone gets to take a quart of cider home!
X-ALT-DESC;FMTTYPE=text/html:The College of the Atlantic Food &amp\; Farming Workshop Series presents a community cider pressing with Mount Desert Island gleaning extraordinaire and local food enthusiast Joe Tracy\, complete with a Halloween costume contest. Everyone gets to take a quart of cider home!
LOCATION:Beech Hill Farm 169 Beech Hill Rd. Mt. Desert\, ME 04660
UID:e.3061.15254
SEQUENCE:3
DTSTAMP:20260419T173116Z
URL:https://www.visitbarharbor.com/events/details/halloween-apple-cider-celebration-15254
END:VEVENT

END:VCALENDAR
