BEGIN:VCALENDAR
VERSION:2.0
PRODID:-//ChamberMaster//Event Calendar 2.0//EN
METHOD:PUBLISH
X-PUBLISHED-TTL:P3D
REFRESH-INTERVAL:P3D
CALSCALE:GREGORIAN
BEGIN:VEVENT
DTSTART:20180503T230000Z
DTEND:20180504T000000Z
X-MICROSOFT-CDO-ALLDAYEVENT:FALSE
SUMMARY:Great Meadow Flooding Talk
DESCRIPTION:In January of this year\, a combination of unusual weather extremes and hydrologic conditions led to flooding and freezing of the Great Meadow in Acadia National Park. Now\, join Brian Henkel\, the Wild Acadia Project Coordinator\, on Thursday\, May 3 at 7 p.m. at the Jesup Memorial Library\, to learn about the circumstances that lead to ice covering nearly 100-acres of Acadia. \n\n \n\nHenkel will provide an overview of the basic hydrologic and hydraulic principles used to understand the flooding events and the meteorologic conditions that contributed to a frozen meadow/forest.\n\n \n\nHenkel is a Civil Engineer - Hydrologist working in groundwater and surface water hydrology for more than 15 years\, as well as the Projector Coordinator at Wild Acadia. The Wild Acadia initiative is a partnership among Acadia National Park\, Friends of Acadia\, supported by Canon USA\, and Maine Natural History Observatory that takes a watershed-based approach to improve degraded ecological conditions in and around Acadia National Park. The partnership works collaboratively with stakeholders such as university faculty and students\, local towns\, and other conservation non-profits to collect data\, assess conditions\, and coordinate efforts to improve ecological integrity\, increase resilience\, and maintain cultural authenticity.\n\n \n\nFor more information\, contact the Jesup at 207-288-4245 or mrice@jesuplibrary.org.
X-ALT-DESC;FMTTYPE=text/html:<span style="color:rgb(34\, 34\, 34)\; font-family:arial\,verdana\,sans-serif\; font-size:12px">In January of this year\, a combination of unusual weather extremes and hydrologic conditions led to flooding and freezing of the Great Meadow in Acadia National Park. Now\, join Brian Henkel\, the Wild Acadia Project Coordinator\, on Thursday\, May 3 at 7 p.m. at the Jesup Memorial Library\, to learn about the circumstances that lead to ice covering nearly 100-acres of Acadia.&nbsp\;</span><br />\n<span style="color:rgb(34\, 34\, 34)\; font-family:arial\,verdana\,sans-serif\; font-size:12px">&nbsp\;</span><br />\n<span style="color:rgb(34\, 34\, 34)\; font-family:arial\,verdana\,sans-serif\; font-size:12px">Henkel will provide an overview of the basic hydrologic and hydraulic principles used to understand the flooding events and the meteorologic conditions that contributed to a frozen meadow/forest.</span><br />\n<span style="color:rgb(34\, 34\, 34)\; font-family:arial\,verdana\,sans-serif\; font-size:12px">&nbsp\;</span><br />\n<span style="color:rgb(34\, 34\, 34)\; font-family:arial\,verdana\,sans-serif\; font-size:12px">Henkel is a Civil Engineer - Hydrologist working in groundwater and surface water hydrology for more than 15 years\, as well as the Projector Coordinator at Wild Acadia. The Wild Acadia initiative is a partnership among Acadia National Park\, Friends of Acadia\, supported by Canon USA\, and Maine Natural History Observatory that takes a watershed-based approach to improve degraded ecological conditions in and around Acadia National Park. The partnership works collaboratively with stakeholders such as university faculty and students\, local towns\, and other conservation non-profits to collect data\, assess conditions\, and coordinate efforts to improve ecological integrity\, increase resilience\, and maintain cultural authenticity.</span><br />\n<span style="color:rgb(34\, 34\, 34)\; font-family:arial\,verdana\,sans-serif\; font-size:12px">&nbsp\;</span><br />\n<span style="color:rgb(34\, 34\, 34)\; font-family:arial\,verdana\,sans-serif\; font-size:12px">For more information\, contact the Jesup at 207-288-4245 or&nbsp\;</span><a href="mailto:mrice@jesuplibrary.org" style="font-family: Arial\, Verdana\, sans-serif\; font-size: 12px\;">mrice@jesuplibrary.org</a><span style="color:rgb(34\, 34\, 34)\; font-family:arial\,verdana\,sans-serif\; font-size:12px">.</span>
LOCATION:Jesup Memorial Library\, 34 Mt. Desert St.\, Bar Harbor\, ME 04609
UID:e.3061.850
SEQUENCE:3
DTSTAMP:20260420T232437Z
URL:https://www.visitbarharbor.com/events/details/great-meadow-flooding-talk-850
END:VEVENT

END:VCALENDAR
