BEGIN:VCALENDAR
VERSION:2.0
PRODID:-//ChamberMaster//Event Calendar 2.0//EN
METHOD:PUBLISH
X-PUBLISHED-TTL:P3D
REFRESH-INTERVAL:P3D
CALSCALE:GREGORIAN
BEGIN:VEVENT
DTSTART:20181128T183000Z
DTEND:20181128T193000Z
X-MICROSOFT-CDO-ALLDAYEVENT:FALSE
SUMMARY:Graceful Aging: Therapeutic Movement Classes for Seniors
DESCRIPTION:Come to the Southwest Harbor Public Library for a talk by Susan Sassaman\, certified yoga\, dance\, and tai chi instructor\, on how exercise and movement classes improve our health and help us age in place. Participants also will be invited to try a sampling of seated tai chi and seated yoga postures. Graceful Aging is a program of Healthy Acadia.
X-ALT-DESC;FMTTYPE=text/html:Come to the Southwest Harbor Public Library for a talk by Susan Sassaman\, certified yoga\, dance\, and tai chi instructor\, on how exercise and movement classes improve our health and help us age in place. Participants also will be invited to try a sampling of seated tai chi and seated yoga postures. Graceful Aging is a program of Healthy Acadia.
LOCATION:Southwest Harbor Public Library
UID:e.3061.4507
SEQUENCE:3
DTSTAMP:20260420T131359Z
URL:https://www.visitbarharbor.com/events/details/graceful-aging-therapeutic-movement-classes-for-seniors-4507
END:VEVENT

END:VCALENDAR
