BEGIN:VCALENDAR
VERSION:2.0
PRODID:-//ChamberMaster//Event Calendar 2.0//EN
METHOD:PUBLISH
X-PUBLISHED-TTL:P3D
REFRESH-INTERVAL:P3D
CALSCALE:GREGORIAN
BEGIN:VEVENT
DTSTART:20190417T220000Z
DTEND:20190417T230000Z
X-MICROSOFT-CDO-ALLDAYEVENT:FALSE
SUMMARY:"Go Fly a Kite" Pajama Story Time
DESCRIPTION:April is National Kite Month and kids four and older can join Miss Mae for a special pajama story time dedicated to kites on Wednesday\, April 17 at 6 p.m. at the Jesup Memorial Library. Miss Mae will read "Curious George Flies a Kite" by Margaret and H.A. Rey\; "Someone Bigger" by Jonathan Emmett\; and "The Kite Festival" by Leyla Torres. After reading\, kids can have snacks and make their own decorative kite to bring home.\n\n \n\nFor more information on the story time\, contact Mae Corrion at 207-288-4245 or mcorrion@jesuplibrary.org.
X-ALT-DESC;FMTTYPE=text/html:<span style="font-family:times new roman\,serif"><span style="font-size:14.0pt">April is National Kite Month and kids four and older can join Miss Mae for a special pajama story time dedicated to kites on Wednesday\, April 17 at 6 p.m. at the Jesup Memorial Library. Miss Mae will read &ldquo\;Curious George Flies a Kite&rdquo\; by Margaret and H.A. Rey\; &ldquo\;Someone Bigger&rdquo\; by Jonathan Emmett\; and &ldquo\;The Kite Festival&rdquo\; by Leyla Torres. After reading\, kids can have snacks and make their own decorative kite to bring home.</span></span><br />\n&nbsp\;<br />\n<span style="font-family:times new roman\,serif"><span style="font-size:14.0pt"><span>For more information on the story time\, contact Mae Corrion at <span class="gc-cs-link" id="gc-number-0" title="Call with Google Voice">207-288-4245</span> or </span><a href="mailto:mcorrion@jesuplibrary.org">mcorrion@jesuplibrary.org</a></span>.</span>
LOCATION:Jesup Memorial Library\, 34 Mt. Desert St.\, Bar Harbor\, ME 04609
UID:e.3061.8856
SEQUENCE:3
DTSTAMP:20260420T023904Z
URL:https://www.visitbarharbor.com/events/details/go-fly-a-kite-pajama-story-time-8856
END:VEVENT

END:VCALENDAR
