BEGIN:VCALENDAR
VERSION:2.0
PRODID:-//ChamberMaster//Event Calendar 2.0//EN
METHOD:PUBLISH
X-PUBLISHED-TTL:P3D
REFRESH-INTERVAL:P3D
CALSCALE:GREGORIAN
BEGIN:VEVENT
DTSTART:20190831T220000Z
DTEND:20190901T003000Z
X-MICROSOFT-CDO-ALLDAYEVENT:FALSE
SUMMARY:Glass Mosaics and Printmaking
DESCRIPTION:with Liz Cutler. Using our samples as inspiration\, we'll combine two of our favorites - stained glass mosaic and gelatin prints with native botanicals. All ages welcome.
X-ALT-DESC;FMTTYPE=text/html:with Liz Cutler. Using our samples as inspiration\, we&#39\;ll combine two of our favorites - stained glass mosaic and gelatin prints with native botanicals. All ages welcome.&nbsp\;
LOCATION:ArtWaves\, 1345-A State Highway 102\, Bar Harbor.
UID:e.3061.14634
SEQUENCE:3
DTSTAMP:20260419T211159Z
URL:https://www.visitbarharbor.com/events/details/glass-mosaics-and-printmaking-14634
END:VEVENT

END:VCALENDAR
