BEGIN:VCALENDAR
VERSION:2.0
PRODID:-//ChamberMaster//Event Calendar 2.0//EN
METHOD:PUBLISH
X-PUBLISHED-TTL:P3D
REFRESH-INTERVAL:P3D
CALSCALE:GREGORIAN
BEGIN:VEVENT
DTSTART:20190202T000000Z
DTEND:20190202T010000Z
X-MICROSOFT-CDO-ALLDAYEVENT:FALSE
SUMMARY:Gilbert & Sullivan "Iolanthe" Pre-Show Discussion and Performance
DESCRIPTION:Victorian-era librettist W. S. Gilbert and composer Arthur Sullivan produced 14 comic operas together and their works are still performed around the world. Join the Gilbert & Sullivan Society of Maine to learn more about Gilbert and Sullivan and their impact and enjoy a sample performance from their upcoming show "Iolanthe" at a pre-show discussion the Jesup Memorial Library on Friday\, Feb. 1 at 7 p.m. \n\n \n\nAfter getting a brief background on who Gilbert and Sullivan were as well as their work\, cast members David Porter and Joe Marshall (who plays The Lord Chancellor in "Iolanthe") will discuss the show with director Dorothy Alf-Wheatcraft. They will then perform select pieces from the show accompanied by musical director Sandy Blanchette on piano. \n\n \n\n"Iolanthe\," or "The Peer and the Peri\," opened at the Savoy Theatre on November 25\, 1882 and ran for 398 performances. It is the seventh Gilbert and Sullivan collaboration. The Gilbert & Sullivan Society of Maine will perform "Iolanthe" at the Grand in Ellsworth from February 8 through February 10 and then from February 15 through February 17. \n\n \n\nFor more information on the Gilbert & Sullivan Society visit gilbertsullivanmaine.org for more information on the talk contact the Jesup at 207-288-4245.
X-ALT-DESC;FMTTYPE=text/html:<span style="font-family:times new roman\,serif"><span style="font-size:14.0pt">Victorian-era librettist W. S. Gilbert and composer Arthur Sullivan produced 14 comic operas together and their works are still performed around the world. Join the Gilbert &amp\; Sullivan Society of Maine to learn more about Gilbert and Sullivan and their impact and enjoy a sample performance from their upcoming show &ldquo\;Iolanthe&rdquo\; at a pre-show discussion the Jesup Memorial Library on Friday\, Feb. 1 at 7 p.m. </span></span><br />\n&nbsp\;<br />\n<span style="font-family:times new roman\,serif"><span style="font-size:14.0pt">After getting a brief background on who Gilbert and Sullivan were as well as their work\, cast members David Porter and Joe Marshall (who plays The Lord Chancellor in &ldquo\;Iolanthe&rdquo\;) will discuss the show with director Dorothy Alf-Wheatcraft. They will then perform select pieces from the show accompanied by musical director Sandy Blanchette on piano. </span></span><br />\n&nbsp\;<br />\n<span style="font-family:times new roman\,serif"><span style="font-size:14.0pt">&ldquo\;Iolanthe\,&rdquo\; or &ldquo\;The Peer and the Peri\,&rdquo\; opened at the Savoy Theatre on November 25\, 1882 and ran for 398 performances. It is the seventh Gilbert and Sullivan collaboration. The Gilbert &amp\; Sullivan Society of Maine will perform &ldquo\;Iolanthe&rdquo\; at the Grand in Ellsworth from February 8 through February 10 and then from February 15 through February 17. </span></span><br />\n&nbsp\;<br />\n<span style="font-family:times new roman\,serif"><span style="font-size:14.0pt">For more information on the Gilbert &amp\; Sullivan Society visit gilbertsullivanmaine.org for more information on the talk contact the Jesup at 207-288-4245. </span></span>
LOCATION:Jesup Memorial Library\, 34 Mt. Desert St.\, Bar Harbor\, ME 04609
UID:e.3061.4898
SEQUENCE:3
DTSTAMP:20260420T062430Z
URL:https://www.visitbarharbor.com/events/details/gilbert-sullivan-iolanthe-pre-show-discussion-and-performance-4898
END:VEVENT

END:VCALENDAR
