BEGIN:VCALENDAR
VERSION:2.0
PRODID:-//ChamberMaster//Event Calendar 2.0//EN
METHOD:PUBLISH
X-PUBLISHED-TTL:P3D
REFRESH-INTERVAL:P3D
CALSCALE:GREGORIAN
BEGIN:VEVENT
DTSTART:20180921T190000Z
DTEND:20180921T210000Z
X-MICROSOFT-CDO-ALLDAYEVENT:FALSE
SUMMARY:Get Out of Your own Way: A Workshop on Managing Change
DESCRIPTION:Change happens TO us. It's triggered BY us. Either way\, it can be very uncomfortable. In this workshop\, we'll talk about the six stages of change\, and the two stages in which most people get stuck. The you'll learn how to get UNstuck! Whether you're managing change in your business or personal life\, this workshop will teach you how to look at your current situation with fresh eyes and coach yourself towards the results you want. Presented by Jennifer Hooper\, Life Coach. Jennifer Hooper is a life coach who has gone through a lot of change: divorce\, investment foreclosures\, bankruptcy\, losing a home\, rocky relationships with teenagers\, grieving the loss of a parent\, and rebuilding poor credit. She's picked up the broken pieces of her life and assembled them into something beautiful. She helps other people do the same.
X-ALT-DESC;FMTTYPE=text/html:Change happens TO us. It&rsquo\;s triggered BY us. Either way\, it can be very uncomfortable. In this workshop\, we&#39\;ll talk about the six stages of change\, and the two stages in which most people get stuck. The you&#39\;ll learn how to get UNstuck! Whether you&#39\;re managing change in your business or personal life\, this workshop will teach you how to look at your current situation with fresh eyes and coach yourself towards the results you want. Presented by Jennifer Hooper\, Life Coach. Jennifer Hooper is a life coach who has gone through a lot of change: divorce\, investment foreclosures\, bankruptcy\, losing a home\, rocky relationships with teenagers\, grieving the loss of a parent\, and rebuilding poor credit. She&#39\;s picked up the broken pieces of her life and assembled them into something beautiful. She helps other people do the same.
LOCATION:Anchorspace Bar Harbor 337 Main Street\, Bar Harbor ME 04609
UID:e.3061.3839
SEQUENCE:3
DTSTAMP:20260420T151212Z
URL:https://www.visitbarharbor.com/events/details/get-out-of-your-own-way-a-workshop-on-managing-change-3839
END:VEVENT

END:VCALENDAR
