BEGIN:VCALENDAR
VERSION:2.0
PRODID:-//ChamberMaster//Event Calendar 2.0//EN
METHOD:PUBLISH
X-PUBLISHED-TTL:P3D
REFRESH-INTERVAL:P3D
CALSCALE:GREGORIAN
BEGIN:VEVENT
DTSTART:20180515T213000Z
DTEND:20180515T230000Z
X-MICROSOFT-CDO-ALLDAYEVENT:FALSE
SUMMARY:Get Organized with Mary McClung
DESCRIPTION:Professional Organizer Mary McClung will discuss the perils of stuff\, the challenges of "organizing". She will discuss different types of organized and disorganized people (mismatched couples welcome)\, techniques to use in sorting through items\, how to make decisions about what to keep or toss (the "but it is new\, expenses\, might fit someday\, was made for me/by me" etc. conundrum)\, favorite books on the topic of clutter\, downsizing and organizing. There will be time for questions.
X-ALT-DESC;FMTTYPE=text/html:Professional Organizer Mary McClung will discuss the perils of stuff\, the challenges of &ldquo\;organizing&rdquo\;. She will discuss different types of organized and disorganized people (mismatched couples welcome)\, techniques to use in sorting through items\, how to make decisions about what to keep or toss (the &quot\;but it is new\, expenses\, might fit someday\, was made for me/by me&quot\; etc. conundrum)\, favorite books on the topic of clutter\, downsizing and organizing. There will be time for questions.
LOCATION:Southwest Harbor Public Library
UID:e.3061.2154
SEQUENCE:3
DTSTAMP:20260420T215630Z
URL:https://www.visitbarharbor.com/events/details/get-organized-with-mary-mcclung-2154
END:VEVENT

END:VCALENDAR
