BEGIN:VCALENDAR
VERSION:2.0
PRODID:-//ChamberMaster//Event Calendar 2.0//EN
METHOD:PUBLISH
X-PUBLISHED-TTL:P3D
REFRESH-INTERVAL:P3D
CALSCALE:GREGORIAN
BEGIN:VEVENT
DTSTART:20200708T203000Z
DTEND:20200708T213000Z
X-MICROSOFT-CDO-ALLDAYEVENT:FALSE
SUMMARY:Gentle Yoga
DESCRIPTION:The traditional purpose of yoga asana is to prepare the body and mind for seated meditation. The gentle\, accessible postures of this class will open the hips\, strengthen the core\, relax the upper body and focus the attention. This practice is suitable for all levels of experience\, including none. We will use a yoga mat\, a strap and blanket(s). The studio has a limited number of props\, so you are encouraged to bring your own if possible.\n\nEveryone is invited (though not required) to stay for Zen meditation practice at 6 pm.
X-ALT-DESC;FMTTYPE=text/html:<span style="background-color:rgb(254\, 253\, 253)\; color:rgb(46\, 46\, 46)\; font-family:avenir-lt-w01_35-light1475496\,sans-serif\; font-size:17px">The traditional purpose of yoga asana is to prepare the body and mind for seated meditation. The gentle\, accessible postures of this class will open the hips\, strengthen the core\, relax the upper body and focus the attention. This practice is suitable for all levels of experience\, including none. We will use a yoga mat\, a strap and blanket(s). The studio has a limited number of props\, so you are encouraged to bring your own if possible.<br />\nEveryone is invited (though not required) to stay for Zen meditation practice at 6 pm.</span>
LOCATION:Dance Studio at ArtWaves 1345 State Highway 102\, Bar Harbor\, ME\, USA
UID:e.3061.23106
SEQUENCE:3
DTSTAMP:20260422T013322Z
URL:https://www.visitbarharbor.com/events/details/gentle-yoga-07-08-2020-23106
END:VEVENT

END:VCALENDAR
