BEGIN:VCALENDAR
VERSION:2.0
PRODID:-//ChamberMaster//Event Calendar 2.0//EN
METHOD:PUBLISH
X-PUBLISHED-TTL:P3D
REFRESH-INTERVAL:P3D
CALSCALE:GREGORIAN
BEGIN:VEVENT
DTSTART:20180704T170000Z
DTEND:20180704T200000Z
X-MICROSOFT-CDO-ALLDAYEVENT:FALSE
SUMMARY:Gelatin Printmaking
DESCRIPTION:Create intriguing patterns full of texture and color. Using found objects\, materials such as lace\, feathers\, bubble wrap\, yarn\, keys\, foam cuts and more\, students will learn a broad range of printmaking techniques using re-usable gelatin plates and water soluble inks. In this workshop students will learn about the concept of layering patterns\, experimenting\, terms\, image types and much more. Samples\, demos\, instruction and hands on assistance will be provided. Come join us for an afternoon of never ending possibilities. Ages 7+
X-ALT-DESC;FMTTYPE=text/html:<span style="color:rgb(46\, 46\, 46)\; font-family:open sans\,sans-serif\; font-size:15px">Create intriguing patterns full of texture and color. Using found objects\, materials such as lace\, feathers\, bubble wrap\, yarn\, keys\,&nbsp\;foam cuts and more\, students will learn a broad range of printmaking techniques using re-usable gelatin plates and water soluble inks. In this workshop students will learn about the concept of layering patterns\, experimenting\, terms\, image types&nbsp\;and much more. Samples\, demos\, instruction and hands on assistance will be provided. Come join us for an afternoon&nbsp\;of never ending possibilities. Ages 7+</span>
LOCATION:ArtWaves 1345-A State Highway 102 Village of Town Hill Bar Harbor\, ME 04609
UID:e.3061.2963
SEQUENCE:3
DTSTAMP:20260420T182336Z
URL:https://www.visitbarharbor.com/events/details/gelatin-printmaking-2963
END:VEVENT

END:VCALENDAR
