BEGIN:VCALENDAR
VERSION:2.0
PRODID:-//ChamberMaster//Event Calendar 2.0//EN
METHOD:PUBLISH
X-PUBLISHED-TTL:P3D
REFRESH-INTERVAL:P3D
CALSCALE:GREGORIAN
BEGIN:VEVENT
DTSTART:20190214T230000Z
DTEND:20190215T020000Z
X-MICROSOFT-CDO-ALLDAYEVENT:FALSE
SUMMARY:Fundamentals of Painting Class Rob Pollien
DESCRIPTION:Join Rob Pollien at ArtWaves studio for an introductory series of structured oil painting exercises. Artists of all experience are welcome\, although the course is recommended for artists new to oil painting or returning after a long absence.\n\n\nStarting with simple value and color painting studies in oil\, we will progress quickly toward more complex painting problems. Attention will be given to reviewing sound studio fundamentals as well as issues that will help the students learn\, grow and become comfortable with the medium.\n\n \n\nMaterials List\n\n \n\nPaint: Titanium White\, cadmium yellow\, yellow ochre\, permanent red violet\, ultramarine blue\, ivory black\n\nTurpenoid\, Gamsol\, or other dorless solvent for brush cleaning\n\nPaper towels\n\nNitrile (or similar) gloves\n\nA few No. 4 & No. 6 natural bristle flat brushes\n\nDisposable or other palette and palette knife\n\nCanvas pad\, 10 sheets 14x18 or similar\n\nDrawing board for your sheets of canvas may be helpful\n\nEasels are provided but if you have a portable easel that you like\, you are welcome to bring it.
X-ALT-DESC;FMTTYPE=text/html:<pre>\nJoin Rob Pollien at ArtWaves studio for an introductory series of structured oil painting exercises. Artists of all experience are welcome\, although the course is recommended for artists new to oil painting or returning after a long absence.\n</pre>\n\n<p>Starting with simple value and color painting studies in oil\, we will progress quickly toward more complex painting problems. Attention will be given to reviewing sound studio fundamentals as well as issues that will help the students learn\, grow and become comfortable with the medium.<br />\n&nbsp\;</p>\n\n<h3>Materials List</h3>\n\n<p>&nbsp\;</p>\n\n<p>Paint: Titanium White\, cadmium yellow\, yellow ochre\, permanent red violet\, ultramarine blue\, ivory black</p>\n\n<p>Turpenoid\, Gamsol\, or other dorless solvent for brush cleaning</p>\n\n<p>Paper towels</p>\n\n<p>Nitrile (or similar) gloves</p>\n\n<p>A few No. 4 &amp\; No. 6 natural bristle flat brushes</p>\n\n<p>Disposable or other palette and palette knife</p>\n\n<p>Canvas pad\, 10 sheets 14x18 or similar</p>\n\n<p>Drawing board for your sheets of canvas may be helpful</p>\n\n<p>Easels are provided but if you have a portable easel that you like\, you are welcome to bring it.</p>\n
LOCATION:ArtWaves 1345 St 102 Village of Town Hill \, Bar Harbor\, ME
UID:e.3061.4750
SEQUENCE:3
DTSTAMP:20260420T064246Z
URL:https://www.visitbarharbor.com/events/details/fundamentals-of-painting-class-rob-pollien-02-14-2019-4750
END:VEVENT

END:VCALENDAR
