BEGIN:VCALENDAR
VERSION:2.0
PRODID:-//ChamberMaster//Event Calendar 2.0//EN
METHOD:PUBLISH
X-PUBLISHED-TTL:P3D
REFRESH-INTERVAL:P3D
CALSCALE:GREGORIAN
BEGIN:VEVENT
DTSTART:20190910T133000Z
DTEND:20190910T153000Z
X-MICROSOFT-CDO-ALLDAYEVENT:FALSE
SUMMARY:Fundamentals of Drawing: 5 Week Session
DESCRIPTION:with Nicole DeSimone. This class is for students of all ability levels who wish to practice and improve their observational drawing skills. The class will provide a variety of subject matter giving students the opportunity to use still life\, portrait and figure drawing to practice the fundamental lessons of proportion and value in drawing. Supplies will be provided and students will have the option to work in graphite and charcoal.
X-ALT-DESC;FMTTYPE=text/html:with Nicole DeSimone. This class is for students of all ability levels who wish to practice and improve their observational drawing skills. The class will provide a variety of subject matter giving students the opportunity to use still life\, portrait and figure drawing to practice the fundamental lessons of proportion and value in drawing. Supplies will be provided and students will have the option to work in graphite and charcoal.&nbsp\;&nbsp\;
LOCATION:ArtWaves\, 1345-A State Highway 102\, Bar Harbor.
UID:e.3061.14707
SEQUENCE:3
DTSTAMP:20260419T173327Z
URL:https://www.visitbarharbor.com/events/details/fundamentals-of-drawing-5-week-session-14707
END:VEVENT

END:VCALENDAR
