BEGIN:VCALENDAR
VERSION:2.0
PRODID:-//ChamberMaster//Event Calendar 2.0//EN
METHOD:PUBLISH
X-PUBLISHED-TTL:P3D
REFRESH-INTERVAL:P3D
CALSCALE:GREGORIAN
BEGIN:VEVENT
DTSTART:20190915T170000Z
DTEND:20190915T200000Z
X-MICROSOFT-CDO-ALLDAYEVENT:FALSE
SUMMARY:Fun and Funky Framing
DESCRIPTION:with Mary Bowers. Make fabulous frames and mats that will showcase your art on a whole new level and save money\, having fun at the same time!  Bring five or six pieces that you want to mat/frame.
X-ALT-DESC;FMTTYPE=text/html:with Mary Bowers. Make fabulous frames and mats that will showcase your art on a whole new level and save money\, having fun at the same time!&nbsp\; Bring five or six pieces that you want to mat/frame.&nbsp\;
LOCATION:ArtWaves\, 1345-A State Highway 102\, Bar Harbor.
UID:e.3061.14679
SEQUENCE:3
DTSTAMP:20260419T173200Z
URL:https://www.visitbarharbor.com/events/details/fun-and-funky-framing-09-15-2019-14679
END:VEVENT

END:VCALENDAR
