BEGIN:VCALENDAR
VERSION:2.0
PRODID:-//ChamberMaster//Event Calendar 2.0//EN
METHOD:PUBLISH
X-PUBLISHED-TTL:P3D
REFRESH-INTERVAL:P3D
CALSCALE:GREGORIAN
BEGIN:VEVENT
DTSTART:20190315T190000Z
DTEND:20190315T210000Z
X-MICROSOFT-CDO-ALLDAYEVENT:FALSE
SUMMARY:Fuel for Your Investment Journey
DESCRIPTION:Long-term investing is like a journey. Whether you're traveling or investing\, you want to prepaLong-term investing is like a journey. Whether you're traveling or investing\, you want to prepare for the trip and avoid wasting time and money along the way. We'll examine:   The economy\, interest rates and our outlook   Current market trends   Ways to prepare for volatility   Opportunities in today's market Presented by: Elise Frank\, Edwards Jones & Co. Happy Hour after the Presentation
X-ALT-DESC;FMTTYPE=text/html:Long-term investing is like a journey. Whether you&rsquo\;re traveling or investing\, you want to prepaLong-term investing is like a journey. Whether you&rsquo\;re traveling or investing\, you want to prepare for the trip and avoid wasting time and money along the way. We&rsquo\;ll examine: &bull\; The economy\, interest rates and our outlook &bull\; Current market trends &bull\; Ways to prepare for volatility &bull\; Opportunities in today&rsquo\;s market Presented by: Elise Frank\, Edwards Jones &amp\; Co. Happy Hour after the Presentation
LOCATION:Anchorspace Bar Harbor 337 Main Street Bar Harbor 04609
UID:e.3061.5149
SEQUENCE:3
DTSTAMP:20260420T043320Z
URL:https://www.visitbarharbor.com/events/details/fuel-for-your-investment-journey-5149
END:VEVENT

END:VCALENDAR
