BEGIN:VCALENDAR
VERSION:2.0
PRODID:-//ChamberMaster//Event Calendar 2.0//EN
METHOD:PUBLISH
X-PUBLISHED-TTL:P3D
REFRESH-INTERVAL:P3D
CALSCALE:GREGORIAN
BEGIN:VEVENT
DTSTART:20180927T230000Z
DTEND:20180928T000000Z
X-MICROSOFT-CDO-ALLDAYEVENT:FALSE
SUMMARY:“From Bear Dens in the Rockies to the Oval Office: My 38-year Career with the National Park Service” with Sheridan Steele
DESCRIPTION:Join former Acadia National Park Superintendent Sheridan Steele as he reflects on his 38-year career in the National Park Service at the Jesup Memorial Library on Thursday\, Sept. 27 at 7 p.m. \n\n \n\nHis talk\, "From Bear Dens in the Rockies to the Oval Office: My 38-year Career with the National Park Service" will feature stories from his career as a manager at seven National Parks throughout the country. He has hosted park visits with numerous dignitaries including President Obama and the First Family\, the Emperor of Japan\, and Pope John Paul II\; and he met President Clinton during a "bill signing" ceremony in the Oval Office. Steele has extensive experience preserving natural and cultural resources and in managing park operations including visitor services\, park maintenance\, search and rescue\, and wildlife management. \n\n \n\nSteele retired from Acadia National Park in 2017\, after serving as superintendent for twelve years. He also served at Rocky Mountain National Park\, Black Canyon of the Gunnison National Park\, Curecanti National Recreation Area\, Fort Scott National Historic Site\, and St. Croix Island International Historic Site.\n\n \n\nFor more information contact the Jesup at 207-288-4245 or mrice@jesuplibrary.org.
X-ALT-DESC;FMTTYPE=text/html:<span style="font-family:times new roman\,serif"><span style="font-size:14.0pt">Join former Acadia National Park Superintendent Sheridan Steele as he reflects on his 38-year career in the National Park Service at the Jesup Memorial Library on Thursday\, Sept. 27 at 7 p.m. </span></span><br />\n&nbsp\;<br />\n<span style="font-family:times new roman\,serif"><span style="font-size:14.0pt">His talk\, &ldquo\;From Bear Dens in the Rockies to the Oval Office: My 38-year Career with the National Park Service&rdquo\; will feature stories from his career as a manager at seven National Parks throughout the country. He has hosted park visits with numerous dignitaries including President Obama and the First Family\, the Emperor of Japan\, and Pope John Paul II\; and he met President Clinton during a &ldquo\;bill signing&rdquo\; ceremony in the Oval Office. Steele has extensive experience preserving natural and cultural resources and in managing park operations including visitor services\, park maintenance\, search and rescue\, and wildlife management. </span></span><br />\n&nbsp\;<br />\n<span style="font-family:times new roman\,serif"><span style="font-size:14.0pt">Steele retired from Acadia National Park in 2017\, after serving as superintendent for twelve years. He also served at Rocky Mountain National Park\, Black Canyon of the Gunnison National Park\, Curecanti National Recreation Area\, Fort Scott National Historic Site\, and St. Croix Island International Historic Site.</span></span><br />\n&nbsp\;<br />\n<span style="font-family:times new roman\,serif"><span style="font-size:14.0pt"><span>For more information contact the Jesup at <span class="gc-cs-link" id="gc-number-0" title="Call with Google Voice">207-288-4245</span> or </span><a href="mailto:mrice@jesuplibrary.org">mrice@jesuplibrary.org</a></span>. </span>
LOCATION:Jesup Memorial Library\, 34 Mt. Desert St.\, Bar Harbor\, ME 04609
UID:e.3061.3851
SEQUENCE:3
DTSTAMP:20260420T151939Z
URL:https://www.visitbarharbor.com/events/details/from-bear-dens-in-the-rockies-to-the-oval-office-my-38-year-career-with-the-national-park-service-with-sheridan-steele-3851
END:VEVENT

END:VCALENDAR
