BEGIN:VCALENDAR
VERSION:2.0
PRODID:-//ChamberMaster//Event Calendar 2.0//EN
METHOD:PUBLISH
X-PUBLISHED-TTL:P3D
REFRESH-INTERVAL:P3D
CALSCALE:GREGORIAN
BEGIN:VEVENT
DTSTART:20190322T230000Z
DTEND:20190323T000000Z
X-MICROSOFT-CDO-ALLDAYEVENT:FALSE
SUMMARY:From Bavaria with Love: A Father and Daughter’s Adventure Abroad
DESCRIPTION:Last summer\, father and daughter duo\, Bob and Anna Clifford traveled to Europe visiting Bavaria\, Austria\, Denmark and Sweden. Bob\, who lives in Hall Quarry\, will share some stories from their travels along with stunning photos that depict these beautiful areas at a talk at the Jesup Memorial Library on Friday\, March 22 at 7 p.m. Bob will highlight his time Bavaria\, which is a federal state in the southeastern corner of the Germany\, as well as share his travels through the other countries. He will also share some of his traveling tips that he learned along the way as well as some of the recommendations.\n\n \n\nFor more information on the talk contact the Jesup at 207-288-4245 or mrice@jesuplibrary.org.
X-ALT-DESC;FMTTYPE=text/html:<span style="font-family:times new roman\,serif"><span style="font-size:14.0pt">Last summer\, father and daughter duo\, Bob and Anna Clifford traveled to Europe visiting Bavaria\, Austria\, Denmark and Sweden. Bob\, who lives in Hall Quarry\, will share some stories from their travels along with stunning photos that depict these beautiful areas at a talk at the Jesup Memorial Library on Friday\, March 22 at 7 p.m. Bob will highlight his time Bavaria\, which is a federal state in the southeastern corner of the Germany\, as well as share his travels through the other countries. He will also share some of his traveling tips that he learned along the way as well as some of the recommendations.</span></span><br />\n&nbsp\;<br />\n<span style="font-family:times new roman\,serif"><span style="font-size:14.0pt"><span>For more information on the talk contact the Jesup at <span class="gc-cs-link" id="gc-number-0" title="Call with Google Voice">207-288-4245</span> or </span><a href="mailto:mrice@jesuplibrary.org">mrice@jesuplibrary.org</a></span>. </span>
LOCATION:Jesup Memorial Library\, 34 Mt. Desert St.\, Bar Harbor\, ME 04609
UID:e.3061.5374
SEQUENCE:3
DTSTAMP:20260420T063156Z
URL:https://www.visitbarharbor.com/events/details/from-bavaria-with-love-a-father-and-daughter-s-adventure-abroad-5374
END:VEVENT

END:VCALENDAR
