BEGIN:VCALENDAR
VERSION:2.0
PRODID:-//ChamberMaster//Event Calendar 2.0//EN
METHOD:PUBLISH
X-PUBLISHED-TTL:P3D
REFRESH-INTERVAL:P3D
CALSCALE:GREGORIAN
BEGIN:VEVENT
DTSTART:20181215T190000Z
DTEND:20181215T200000Z
X-MICROSOFT-CDO-ALLDAYEVENT:FALSE
SUMMARY:Frogtown Mountain Puppeteers' The Grinch
DESCRIPTION:Saturday\, December 15th at 2 p.m. The Frogtown Mountain Puppeteers\, a local family puppet troupe\, performs their retelling of the holiday classic The Grinch with hand-crafted puppets. Perfect for families with kids ages 4 & up. $5 Admission
X-ALT-DESC;FMTTYPE=text/html:Saturday\, December 15th at 2 p.m. The Frogtown Mountain Puppeteers\, a local family puppet troupe\, performs their retelling of the holiday classic The Grinch with hand-crafted puppets. Perfect for families with kids ages 4 &amp\; up. $5 Admission
LOCATION:1932 Criterion Theatre 35 Cottage St Bar Harbor\, ME
UID:e.3061.4822
SEQUENCE:3
DTSTAMP:20260420T100618Z
URL:https://www.visitbarharbor.com/events/details/frogtown-mountain-puppeteers-the-grinch-4822
END:VEVENT

END:VCALENDAR
