BEGIN:VCALENDAR
VERSION:2.0
PRODID:-//ChamberMaster//Event Calendar 2.0//EN
METHOD:PUBLISH
X-PUBLISHED-TTL:P3D
REFRESH-INTERVAL:P3D
CALSCALE:GREGORIAN
BEGIN:VEVENT
DTSTART:20180930T180000Z
DTEND:20180930T190000Z
X-MICROSOFT-CDO-ALLDAYEVENT:FALSE
SUMMARY:Frogtown Mountain Puppeteers and The Legend of the Banana Kid
DESCRIPTION:Little Chucky heads to the Wild West to outwit outlaws in this cowboy adventure! With a fistful of bananas\, Chucky rides into town on his trusty goat for a showdown with Big Bad Bart and his gang of bandits. (*please note that there are no guns in the show). "The Legend of the Banana Kid" features 20 hand-crafted glove\, mouth and rod puppets\, and a slew of flying and twirling styrofoam bananas. Part of the inaugural Criterion Theatre for Young Audiences Festival.
X-ALT-DESC;FMTTYPE=text/html:Little Chucky heads to the Wild West to outwit outlaws in this cowboy adventure! With a fistful of bananas\, Chucky rides into town on his trusty goat for a showdown with Big Bad Bart and his gang of bandits. (*please note that there are no guns in the show). &ldquo\;The Legend of the Banana Kid&rdquo\; features 20 hand-crafted glove\, mouth and rod puppets\, and a slew of flying and twirling styrofoam bananas. Part of the inaugural Criterion Theatre for Young Audiences Festival.
LOCATION:1932 Criterion Theatre 35 Cottage St. Bar Harbor
UID:e.3061.3858
SEQUENCE:3
DTSTAMP:20260420T151840Z
URL:https://www.visitbarharbor.com/events/details/frogtown-mountain-puppeteers-and-the-legend-of-the-banana-kid-3858
END:VEVENT

END:VCALENDAR
