BEGIN:VCALENDAR
VERSION:2.0
PRODID:-//ChamberMaster//Event Calendar 2.0//EN
METHOD:PUBLISH
X-PUBLISHED-TTL:P3D
REFRESH-INTERVAL:P3D
CALSCALE:GREGORIAN
BEGIN:VEVENT
DTSTART:20190802T170000Z
DTEND:20190802T200000Z
X-MICROSOFT-CDO-ALLDAYEVENT:FALSE
SUMMARY:Friday Art For Kids
DESCRIPTION:For ages 8-18 1-4 on Fridays\, from June 21-August 30.\n\nKids\, would you like to improve your drawing & painting skills? Pets\, cars\, people\, landscapes\, or something totally from your imagination! Come to this class to learn how artists like Van Gogh created masterpieces in drawing and painting. We will cover color mixing\, using perspective to show space\, shading\, or whatever YOU want to improve with your art skills. We are relaxed and everyone works at their own pace on their own project. Come to one class\, or come weekly!
X-ALT-DESC;FMTTYPE=text/html:<span style="background-color:rgb(254\, 253\, 253)\; color:rgb(46\, 46\, 46)\; font-family:avenir-lt-w01_35-light1475496\,sans-serif\; font-size:17px">For ages 8-18 1-4 on Fridays\, from June 21-August 30.<br />\nKids\, would you like to improve your drawing &amp\; painting skills? Pets\, cars\, people\, landscapes\, or something totally from your imagination! Come to this class to learn how artists like Van Gogh created masterpieces in drawing and painting. We will cover color mixing\, using perspective to show space\, shading\, or whatever YOU want to improve with your art skills. We are relaxed and everyone works at their own pace on their own project. Come to one class\, or come weekly!</span>
LOCATION:ArtWaves 1345 State Highway 102\, Bar Harbor\, ME\, USA
UID:e.3061.13792
SEQUENCE:3
DTSTAMP:20260419T192512Z
URL:https://www.visitbarharbor.com/events/details/friday-art-for-kids-08-02-2019-13792
END:VEVENT

END:VCALENDAR
