BEGIN:VCALENDAR
VERSION:2.0
PRODID:-//ChamberMaster//Event Calendar 2.0//EN
METHOD:PUBLISH
X-PUBLISHED-TTL:P3D
REFRESH-INTERVAL:P3D
CALSCALE:GREGORIAN
BEGIN:VEVENT
DTSTART:20180604T210000Z
DTEND:20180604T230000Z
X-MICROSOFT-CDO-ALLDAYEVENT:FALSE
SUMMARY:Free Monthly AED/Hands Only CPR Class
DESCRIPTION:The Library is offering a free Automatic External Defibrillator (AED) and Hands Only Cardiopulmonary Resuscitation (CPR) class. The course will be taught by volunteer Patricia Buccello\, an American Heart Association certified instructor and local paramedic. This class is not for CPR certification\, but is an opportunity for anyone to be introduced to\, or refresh\, AED use and Hands Only CPR. Space is limited\; please call to reserve a space.
X-ALT-DESC;FMTTYPE=text/html:The Library is offering a free Automatic External Defibrillator (AED) and Hands Only Cardiopulmonary Resuscitation (CPR) class. The course will be taught by volunteer Patricia Buccello\, an American Heart Association certified instructor and local paramedic. This class is not for CPR certification\, but is an opportunity for anyone to be introduced to\, or refresh\, AED use and Hands Only CPR. Space is limited\; please call to reserve a space.
LOCATION:Southwest Harbor Public Library
UID:e.3061.2576
SEQUENCE:3
DTSTAMP:20260420T195447Z
URL:https://www.visitbarharbor.com/events/details/free-monthly-aed-hands-only-cpr-class-2576
END:VEVENT

END:VCALENDAR
