BEGIN:VCALENDAR
VERSION:2.0
PRODID:-//ChamberMaster//Event Calendar 2.0//EN
METHOD:PUBLISH
X-PUBLISHED-TTL:P3D
REFRESH-INTERVAL:P3D
CALSCALE:GREGORIAN
BEGIN:VEVENT
DTSTART:20180612T170000Z
DTEND:20180612T200000Z
X-MICROSOFT-CDO-ALLDAYEVENT:FALSE
SUMMARY:Found Object Art Crafternoon
DESCRIPTION:Using found objects\, such as stones\, feathers\, rope\, sea glass\, drift wood and more\, students will create 3 dimensional artworks on heavy stock paper. They will later add in details with ink and watercolor paints. This workshop focuses on the fusion using mixed mediums to unify a work of art with a particular theme in mind.\n\n\nAges 9-99 are welcome to experience our selection of beginner workshops that include a sense of Acadia. Younger children are welcome accompanied by a double-digit partner. Excellent for families!
X-ALT-DESC;FMTTYPE=text/html:<pre>\n<span style="font-family:arial\,helvetica\,sans-serif">Using found objects\, such as stones\, feathers\, rope\, sea glass\, drift wood and more\, students will create 3 dimensional artworks on heavy stock paper. They will later add in details with ink and watercolor paints. This workshop focuses on the fusion using mixed mediums to unify a work of art with a particular theme in mind.\n</span></pre>\n\n<p><span style="font-family:arial\,helvetica\,sans-serif">Ages 9-99 are welcome to experience our selection of beginner workshops that include a sense of Acadia.&nbsp\;Younger children are welcome accompanied by a double-digit partner. Excellent for families!</span></p>\n
LOCATION:ArtWaves 1345aState highway 102 Next to Town Holl Market Bar Harbor\, Maine 04609
UID:e.3061.2454
SEQUENCE:3
DTSTAMP:20260420T195643Z
URL:https://www.visitbarharbor.com/events/details/found-object-art-crafternoon-2454
END:VEVENT

END:VCALENDAR
